BEGIN:VCALENDAR
VERSION:2.0
PRODID:-//achurchnearyou.com//eventfeed//EN
CALSCALE:GREGORIAN
METHOD:PUBLISH
X-WR-TIMEZONE:UTC
BEGIN:VEVENT
SUMMARY:Easter Day service of Holy Communion for all the family
DTSTART:20260405T083000Z
DTEND:20260405T093000Z
DTSTAMP:20260423T090737Z
UID:5636382026-04-05 08:30:00+00:00achurchnearyou
CATEGORIES:
DESCRIPTION:The whole church family from ages 0-100 meet together for a sp
 ecial service
GEO:0.572851;50.907985
LOCATION:St John's Westfield
URL:https://www.achurchnearyou.com/church/5222/service-and-events/events/5
 63638/
END:VEVENT
END:VCALENDAR
