BEGIN:VCALENDAR
VERSION:2.0
PRODID:-//achurchnearyou.com//eventfeed//EN
CALSCALE:GREGORIAN
METHOD:PUBLISH
X-WR-TIMEZONE:UTC
BEGIN:VEVENT
SUMMARY:Encounter
DTSTART;TZID=Europe/London:20260426T100000
DTEND;TZID=Europe/London:20260426T110000
DTSTAMP:20260420T040203Z
UID:12756322026-04-26 10:00:00+01:00achurchnearyou
CATEGORIES:
DESCRIPTION:Encounter is a space to meet God in prayer and praise\, by sin
 ging worship songs and celebrating Holy Communion together.\nLess traditio
 nal than our other Sunday service\; it’s a great place to ‘Encounter
 ’ God in a different way\, particularly families and those new to church
 .\n\nThere will be a laying on of hands in the Ratton Chapel after the Enc
 ounter service.
GEO:0.253651;50.799872
LOCATION:St Mary the Virgin
URL:https://www.achurchnearyou.com/church/5231/service-and-events/events/1
 275632/
END:VEVENT
BEGIN:VEVENT
SUMMARY:Encounter
DTSTART;TZID=Europe/London:20260531T100000
DTEND;TZID=Europe/London:20260531T110000
DTSTAMP:20260420T040203Z
UID:12756322026-05-31 10:00:00+01:00achurchnearyou
CATEGORIES:
DESCRIPTION:Encounter is a space to meet God in prayer and praise\, by sin
 ging worship songs and celebrating Holy Communion together.\nLess traditio
 nal than our other Sunday service\; it’s a great place to ‘Encounter
 ’ God in a different way\, particularly families and those new to church
 .\n\nThere will be a laying on of hands in the Ratton Chapel after the Enc
 ounter service.
GEO:0.253651;50.799872
LOCATION:St Mary the Virgin
URL:https://www.achurchnearyou.com/church/5231/service-and-events/events/1
 275632/
END:VEVENT
BEGIN:VEVENT
SUMMARY:Encounter
DTSTART;TZID=Europe/London:20260628T100000
DTEND;TZID=Europe/London:20260628T110000
DTSTAMP:20260420T040203Z
UID:12756322026-06-28 10:00:00+01:00achurchnearyou
CATEGORIES:
DESCRIPTION:Encounter is a space to meet God in prayer and praise\, by sin
 ging worship songs and celebrating Holy Communion together.\nLess traditio
 nal than our other Sunday service\; it’s a great place to ‘Encounter
 ’ God in a different way\, particularly families and those new to church
 .\n\nThere will be a laying on of hands in the Ratton Chapel after the Enc
 ounter service.
GEO:0.253651;50.799872
LOCATION:St Mary the Virgin
URL:https://www.achurchnearyou.com/church/5231/service-and-events/events/1
 275632/
END:VEVENT
BEGIN:VEVENT
SUMMARY:Encounter
DTSTART;TZID=Europe/London:20260726T100000
DTEND;TZID=Europe/London:20260726T110000
DTSTAMP:20260420T040203Z
UID:12756322026-07-26 10:00:00+01:00achurchnearyou
CATEGORIES:
DESCRIPTION:Encounter is a space to meet God in prayer and praise\, by sin
 ging worship songs and celebrating Holy Communion together.\nLess traditio
 nal than our other Sunday service\; it’s a great place to ‘Encounter
 ’ God in a different way\, particularly families and those new to church
 .\n\nThere will be a laying on of hands in the Ratton Chapel after the Enc
 ounter service.
GEO:0.253651;50.799872
LOCATION:St Mary the Virgin
URL:https://www.achurchnearyou.com/church/5231/service-and-events/events/1
 275632/
END:VEVENT
BEGIN:VEVENT
SUMMARY:Encounter
DTSTART;TZID=Europe/London:20260830T100000
DTEND;TZID=Europe/London:20260830T110000
DTSTAMP:20260420T040203Z
UID:12756322026-08-30 10:00:00+01:00achurchnearyou
CATEGORIES:
DESCRIPTION:Encounter is a space to meet God in prayer and praise\, by sin
 ging worship songs and celebrating Holy Communion together.\nLess traditio
 nal than our other Sunday service\; it’s a great place to ‘Encounter
 ’ God in a different way\, particularly families and those new to church
 .\n\nThere will be a laying on of hands in the Ratton Chapel after the Enc
 ounter service.
GEO:0.253651;50.799872
LOCATION:St Mary the Virgin
URL:https://www.achurchnearyou.com/church/5231/service-and-events/events/1
 275632/
END:VEVENT
BEGIN:VEVENT
SUMMARY:Encounter
DTSTART;TZID=Europe/London:20260927T100000
DTEND;TZID=Europe/London:20260927T110000
DTSTAMP:20260420T040203Z
UID:12756322026-09-27 10:00:00+01:00achurchnearyou
CATEGORIES:
DESCRIPTION:Encounter is a space to meet God in prayer and praise\, by sin
 ging worship songs and celebrating Holy Communion together.\nLess traditio
 nal than our other Sunday service\; it’s a great place to ‘Encounter
 ’ God in a different way\, particularly families and those new to church
 .\n\nThere will be a laying on of hands in the Ratton Chapel after the Enc
 ounter service.
GEO:0.253651;50.799872
LOCATION:St Mary the Virgin
URL:https://www.achurchnearyou.com/church/5231/service-and-events/events/1
 275632/
END:VEVENT
BEGIN:VEVENT
SUMMARY:Encounter
DTSTART;TZID=Europe/London:20261025T100000
DTEND;TZID=Europe/London:20261025T110000
DTSTAMP:20260420T040203Z
UID:12756322026-10-25 10:00:00+00:00achurchnearyou
CATEGORIES:
DESCRIPTION:Encounter is a space to meet God in prayer and praise\, by sin
 ging worship songs and celebrating Holy Communion together.\nLess traditio
 nal than our other Sunday service\; it’s a great place to ‘Encounter
 ’ God in a different way\, particularly families and those new to church
 .\n\nThere will be a laying on of hands in the Ratton Chapel after the Enc
 ounter service.
GEO:0.253651;50.799872
LOCATION:St Mary the Virgin
URL:https://www.achurchnearyou.com/church/5231/service-and-events/events/1
 275632/
END:VEVENT
BEGIN:VEVENT
SUMMARY:Encounter
DTSTART;TZID=Europe/London:20261129T100000
DTEND;TZID=Europe/London:20261129T110000
DTSTAMP:20260420T040203Z
UID:12756322026-11-29 10:00:00+00:00achurchnearyou
CATEGORIES:
DESCRIPTION:Encounter is a space to meet God in prayer and praise\, by sin
 ging worship songs and celebrating Holy Communion together.\nLess traditio
 nal than our other Sunday service\; it’s a great place to ‘Encounter
 ’ God in a different way\, particularly families and those new to church
 .\n\nThere will be a laying on of hands in the Ratton Chapel after the Enc
 ounter service.
GEO:0.253651;50.799872
LOCATION:St Mary the Virgin
URL:https://www.achurchnearyou.com/church/5231/service-and-events/events/1
 275632/
END:VEVENT
BEGIN:VEVENT
SUMMARY:Encounter
DTSTART;TZID=Europe/London:20261227T100000
DTEND;TZID=Europe/London:20261227T110000
DTSTAMP:20260420T040203Z
UID:12756322026-12-27 10:00:00+00:00achurchnearyou
CATEGORIES:
DESCRIPTION:Encounter is a space to meet God in prayer and praise\, by sin
 ging worship songs and celebrating Holy Communion together.\nLess traditio
 nal than our other Sunday service\; it’s a great place to ‘Encounter
 ’ God in a different way\, particularly families and those new to church
 .\n\nThere will be a laying on of hands in the Ratton Chapel after the Enc
 ounter service.
GEO:0.253651;50.799872
LOCATION:St Mary the Virgin
URL:https://www.achurchnearyou.com/church/5231/service-and-events/events/1
 275632/
END:VEVENT
BEGIN:VEVENT
SUMMARY:Encounter
DTSTART;TZID=Europe/London:20270131T100000
DTEND;TZID=Europe/London:20270131T110000
DTSTAMP:20260420T040203Z
UID:12756322027-01-31 10:00:00+00:00achurchnearyou
CATEGORIES:
DESCRIPTION:Encounter is a space to meet God in prayer and praise\, by sin
 ging worship songs and celebrating Holy Communion together.\nLess traditio
 nal than our other Sunday service\; it’s a great place to ‘Encounter
 ’ God in a different way\, particularly families and those new to church
 .\n\nThere will be a laying on of hands in the Ratton Chapel after the Enc
 ounter service.
GEO:0.253651;50.799872
LOCATION:St Mary the Virgin
URL:https://www.achurchnearyou.com/church/5231/service-and-events/events/1
 275632/
END:VEVENT
BEGIN:VEVENT
SUMMARY:Encounter
DTSTART;TZID=Europe/London:20270228T100000
DTEND;TZID=Europe/London:20270228T110000
DTSTAMP:20260420T040203Z
UID:12756322027-02-28 10:00:00+00:00achurchnearyou
CATEGORIES:
DESCRIPTION:Encounter is a space to meet God in prayer and praise\, by sin
 ging worship songs and celebrating Holy Communion together.\nLess traditio
 nal than our other Sunday service\; it’s a great place to ‘Encounter
 ’ God in a different way\, particularly families and those new to church
 .\n\nThere will be a laying on of hands in the Ratton Chapel after the Enc
 ounter service.
GEO:0.253651;50.799872
LOCATION:St Mary the Virgin
URL:https://www.achurchnearyou.com/church/5231/service-and-events/events/1
 275632/
END:VEVENT
BEGIN:VEVENT
SUMMARY:Encounter
DTSTART;TZID=Europe/London:20270328T100000
DTEND;TZID=Europe/London:20270328T110000
DTSTAMP:20260420T040203Z
UID:12756322027-03-28 10:00:00+01:00achurchnearyou
CATEGORIES:
DESCRIPTION:Encounter is a space to meet God in prayer and praise\, by sin
 ging worship songs and celebrating Holy Communion together.\nLess traditio
 nal than our other Sunday service\; it’s a great place to ‘Encounter
 ’ God in a different way\, particularly families and those new to church
 .\n\nThere will be a laying on of hands in the Ratton Chapel after the Enc
 ounter service.
GEO:0.253651;50.799872
LOCATION:St Mary the Virgin
URL:https://www.achurchnearyou.com/church/5231/service-and-events/events/1
 275632/
END:VEVENT
END:VCALENDAR
