BEGIN:VCALENDAR
VERSION:2.0
PRODID:-//achurchnearyou.com//eventfeed//EN
CALSCALE:GREGORIAN
METHOD:PUBLISH
X-WR-TIMEZONE:UTC
BEGIN:VEVENT
SUMMARY:Good Friday. Children’s Service
DTSTART:20260403T090000Z
DTEND:20260403T100000Z
DTSTAMP:20260420T075051Z
UID:12892112026-04-03 09:00:00+00:00achurchnearyou
CATEGORIES:
DESCRIPTION:A children’s Good Friday service is a quiet\, reflective act
  of worship that tells the story of Jesus’ death with sensitivity to hel
 p children explore themes of love\, sadness\, and hope.\nHot Cross Buns wi
 ll be provided after this service.
GEO:0.253651;50.799872
LOCATION:St Mary the Virgin
URL:https://www.achurchnearyou.com/church/5231/service-and-events/events/1
 289211/
END:VEVENT
END:VCALENDAR
