BEGIN:VCALENDAR
VERSION:2.0
PRODID:-//achurchnearyou.com//eventfeed//EN
CALSCALE:GREGORIAN
METHOD:PUBLISH
X-WR-TIMEZONE:UTC
BEGIN:VEVENT
SUMMARY:Good Friday. Act of Witness
DTSTART:20260403T110000Z
DTEND:20260403T120000Z
DTSTAMP:20260420T074934Z
UID:12892702026-04-03 11:00:00+00:00achurchnearyou
CATEGORIES:
DESCRIPTION:We all gather in Hampden Park (by the tea chalet) to remember 
 Jesus’ journey to the cross. This public act of witness invites all to p
 ause and reflect on the meaning of Good Friday.
LOCATION:Hampden Park
URL:https://www.achurchnearyou.com/church/5231/service-and-events/events/1
 289270/
END:VEVENT
END:VCALENDAR
