BEGIN:VCALENDAR
VERSION:2.0
PRODID:-//achurchnearyou.com//eventfeed//EN
CALSCALE:GREGORIAN
METHOD:PUBLISH
X-WR-TIMEZONE:UTC
BEGIN:VEVENT
SUMMARY:Messy Church
DTSTART:20250414T143000Z
DTEND:20250414T163000Z
DTSTAMP:20260425T032442Z
UID:11762462025-04-14 14:30:00+00:00achurchnearyou
CATEGORIES:
DESCRIPTION:Bible story\, activities and fun for all the family - on a dif
 ferent week for APRIL only!
GEO:-0.357358;50.814209
LOCATION:St George's Church\, East Worthing
URL:https://www.achurchnearyou.com/church/5249/service-and-events/events/1
 176246/
END:VEVENT
END:VCALENDAR
