BEGIN:VCALENDAR
VERSION:2.0
PRODID:-//achurchnearyou.com//eventfeed//EN
CALSCALE:GREGORIAN
METHOD:PUBLISH
X-WR-TIMEZONE:UTC
BEGIN:VEVENT
SUMMARY:Easter One-Day Holiday Club
DTSTART:20250417T084500Z
DTEND:20250417T120000Z
DTSTAMP:20260425T014734Z
UID:11762522025-04-17 08:45:00+00:00achurchnearyou
CATEGORIES:
DESCRIPTION:The Easter story\, activities\, games\, craft\, fun for primar
 y-age kids.  Book in on our website.
GEO:-0.357358;50.814209
LOCATION:St George's Church\, East Worthing
URL:https://www.achurchnearyou.com/church/5249/service-and-events/events/1
 176252/
END:VEVENT
END:VCALENDAR
