BEGIN:VCALENDAR
VERSION:2.0
PRODID:-//achurchnearyou.com//eventfeed//EN
CALSCALE:GREGORIAN
METHOD:PUBLISH
X-WR-TIMEZONE:UTC
BEGIN:VEVENT
SUMMARY:Christingle Service
DTSTART:20251224T170000Z
DTEND:20251224T180000Z
DTSTAMP:20260424T111736Z
UID:12654152025-12-24 17:00:00+00:00achurchnearyou
CATEGORIES:
DESCRIPTION:The family favourite Christmas Eve special.  Come early for a 
 good seat!
GEO:-0.357358;50.814209
LOCATION:St George's Church\, East Worthing
URL:https://www.stgw.org.uk/activities/christmas-2025/
END:VEVENT
END:VCALENDAR
