BEGIN:VCALENDAR
VERSION:2.0
PRODID:-//achurchnearyou.com//eventfeed//EN
CALSCALE:GREGORIAN
METHOD:PUBLISH
X-WR-TIMEZONE:UTC
BEGIN:VEVENT
SUMMARY:Easter Sunday All Age Celebration
DTSTART:20260405T093000Z
DTEND:20260405T104500Z
DTSTAMP:20260424T025316Z
UID:13046002026-04-05 09:30:00+00:00achurchnearyou
CATEGORIES:
DESCRIPTION:Join in celebrating the joy of Easter morning!
GEO:-0.357358;50.814209
LOCATION:St George's Church\, East Worthing
URL:https://stgw.churchsuite.com/events/llu9qhp4
END:VEVENT
END:VCALENDAR
