BEGIN:VCALENDAR
VERSION:2.0
PRODID:-//achurchnearyou.com//eventfeed//EN
CALSCALE:GREGORIAN
METHOD:PUBLISH
X-WR-TIMEZONE:UTC
BEGIN:VEVENT
SUMMARY:Valentine's Barn Dance
DTSTART:20260214T190000Z
DTEND:20260214T213000Z
DTSTAMP:20260423T213014Z
UID:12831102026-02-14 19:00:00+00:00achurchnearyou
CATEGORIES:
DESCRIPTION:An evening of dancing\, food and fun.\nPloughman's supper prov
 ided.\nBring your own drink\nCost £12\nIn aid of St Mary's Church Hall Re
 furbishment\n\n14th February at 7pm
GEO:-0.032309;51.358342
LOCATION:Addington\, St Mary the Blessed Virgin
URL:https://addington.org.uk/
END:VEVENT
END:VCALENDAR
