BEGIN:VCALENDAR
VERSION:2.0
PRODID:-//achurchnearyou.com//eventfeed//EN
CALSCALE:GREGORIAN
METHOD:PUBLISH
X-WR-TIMEZONE:UTC
BEGIN:VEVENT
SUMMARY:Palm Sunday Devotion
DTSTART:20260329T173000Z
DTEND:20260329T183000Z
DTSTAMP:20260423T230311Z
UID:13100172026-03-29 17:30:00+00:00achurchnearyou
CATEGORIES:
DESCRIPTION:Music and words for Palm Sunday
GEO:-0.032309;51.358342
LOCATION:Addington\, St Mary the Blessed Virgin
URL:https://www.achurchnearyou.com/church/525/service-and-events/events/13
 10017/
END:VEVENT
END:VCALENDAR
