BEGIN:VCALENDAR
VERSION:2.0
PRODID:-//achurchnearyou.com//eventfeed//EN
CALSCALE:GREGORIAN
METHOD:PUBLISH
X-WR-TIMEZONE:UTC
BEGIN:VEVENT
SUMMARY:Easter Day Holy Communion
DTSTART:20260405T100000Z
DTEND:20260405T111500Z
DTSTAMP:20260422T172627Z
UID:13208872026-04-05 10:00:00+00:00achurchnearyou
CATEGORIES:
DESCRIPTION:Easter Day Holy Communion\nWith crafts and Easter Egg Hunt for
  children\nFollowed by tea / coffee and biscuits\n\nPhoto: The Church of E
 ngland
LOCATION:Thurmaston: St Michael & All Angels
URL:https://www.achurchnearyou.com/church/5264/service-and-events/events/1
 320887/
END:VEVENT
END:VCALENDAR
