BEGIN:VCALENDAR
VERSION:2.0
PRODID:-//achurchnearyou.com//eventfeed//EN
CALSCALE:GREGORIAN
METHOD:PUBLISH
X-WR-TIMEZONE:UTC
BEGIN:VEVENT
SUMMARY:9.30 am Holy Communion Service
DTSTART;TZID=Europe/London:20250706T093000
DTEND;TZID=Europe/London:20250706T103000
DTSTAMP:20260424T172313Z
UID:12079042025-07-06 09:30:00+01:00achurchnearyou
CATEGORIES:
DESCRIPTION:Formal service with Holy Communion
GEO:-0.082791;51.377435
LOCATION:Addiscombe\, St Mary Magdalene
URL:https://www.achurchnearyou.com/church/528/service-and-events/events/12
 07904/
END:VEVENT
END:VCALENDAR
