BEGIN:VCALENDAR
VERSION:2.0
PRODID:-//achurchnearyou.com//eventfeed//EN
CALSCALE:GREGORIAN
METHOD:PUBLISH
X-WR-TIMEZONE:UTC
BEGIN:VEVENT
SUMMARY:All Age Easter Celebration
DTSTART:20260405T093000Z
DTEND:20260405T103000Z
DTSTAMP:20260423T150535Z
UID:13025262026-04-05 09:30:00+00:00achurchnearyou
CATEGORIES:
DESCRIPTION:All Age Easter celebration with Holy Communion
GEO:-0.082791;51.377435
LOCATION:Addiscombe\, St Mary Magdalene
URL:https://www.achurchnearyou.com/church/528/service-and-events/events/13
 02526/
END:VEVENT
END:VCALENDAR
