BEGIN:VCALENDAR
VERSION:2.0
PRODID:-//achurchnearyou.com//eventfeed//EN
CALSCALE:GREGORIAN
METHOD:PUBLISH
X-WR-TIMEZONE:UTC
BEGIN:VEVENT
SUMMARY:Christmas Fayre
DTSTART:20251214T140000Z
DTEND:20251214T160000Z
DTSTAMP:20260420T065114Z
UID:12379672025-12-14 14:00:00+00:00achurchnearyou
CATEGORIES:
DESCRIPTION:Christmas Fayre \, stalls\, gifts\, refreshments\,childresn ac
 tivities
GEO:-1.144735;52.787438
LOCATION:Prestwold: St Andrew
URL:https://www.achurchnearyou.com/church/5289/service-and-events/events/1
 237967/
END:VEVENT
END:VCALENDAR
