BEGIN:VCALENDAR
VERSION:2.0
PRODID:-//achurchnearyou.com//eventfeed//EN
CALSCALE:GREGORIAN
METHOD:PUBLISH
X-WR-TIMEZONE:UTC
BEGIN:VEVENT
SUMMARY:Ash Wednesday
DTSTART:20260218T190000Z
DTEND:20260218T200000Z
DTSTAMP:20260422T021653Z
UID:11669722026-02-18 19:00:00+00:00achurchnearyou
CATEGORIES:
DESCRIPTION:Holy Communion with the imposition of ashes
GEO:-2.055216;53.040903
LOCATION:Wetley Rocks S.John the Baptist
URL:https://www.achurchnearyou.com/church/5297/service-and-events/events/1
 166972/
END:VEVENT
END:VCALENDAR
