BEGIN:VCALENDAR
VERSION:2.0
PRODID:-//achurchnearyou.com//eventfeed//EN
CALSCALE:GREGORIAN
METHOD:PUBLISH
X-WR-TIMEZONE:UTC
BEGIN:VEVENT
SUMMARY:Ash Wednesday service 18th February at 7pm
DTSTART:20260218T190000Z
DTEND:20260218T194500Z
DTSTAMP:20260424T232530Z
UID:12794382026-02-18 19:00:00+00:00achurchnearyou
CATEGORIES:
DESCRIPTION:A reflective evening communion service with the opportunity to
  receive the sign of the cross made in ash at the beginning of the season 
 of Lent
GEO:-2.163363;54.044879
LOCATION:Kirkby-in-Malhamdale: St Michael the Archangel
URL:https://www.kirkbymalhamchurch.org/
END:VEVENT
END:VCALENDAR
