BEGIN:VCALENDAR
VERSION:2.0
PRODID:-//achurchnearyou.com//eventfeed//EN
CALSCALE:GREGORIAN
METHOD:PUBLISH
X-WR-TIMEZONE:UTC
BEGIN:VEVENT
SUMMARY:Maundy Thursday Communion service
DTSTART:20260402T180000Z
DTEND:20260402T184500Z
DTSTAMP:20260424T174030Z
UID:12795142026-04-02 18:00:00+00:00achurchnearyou
CATEGORIES:
DESCRIPTION:A reflective service with hymns\, readings\, prayers\, communi
 on\, and a short homily\, finishing with 'stripping of the altars' when we
  remove all the furnishings in the sanctuary to symbolise the events of th
 e early hours of the first Good Friday
GEO:-2.163363;54.044879
LOCATION:Kirkby-in-Malhamdale: St Michael the Archangel
URL:https://www.kirkbymalhamchurch.org/
END:VEVENT
END:VCALENDAR
