BEGIN:VCALENDAR
VERSION:2.0
PRODID:-//achurchnearyou.com//eventfeed//EN
CALSCALE:GREGORIAN
METHOD:PUBLISH
X-WR-TIMEZONE:UTC
BEGIN:VEVENT
SUMMARY:BCP Communion
DTSTART;TZID=Europe/London:20260503T083000
DTEND;TZID=Europe/London:20260503T090000
DTSTAMP:20260424T125453Z
UID:9376612026-05-03 08:30:00+01:00achurchnearyou
CATEGORIES:
DESCRIPTION:A traditional prayer book service of Holy Communion held on th
 e first Sunday of each month in the Lady Chapel
GEO:-2.163363;54.044879
LOCATION:Kirkby-in-Malhamdale: St Michael the Archangel
URL:https://www.kirkbymalhamchurch.org/
END:VEVENT
BEGIN:VEVENT
SUMMARY:BCP Communion
DTSTART;TZID=Europe/London:20260607T083000
DTEND;TZID=Europe/London:20260607T090000
DTSTAMP:20260424T125453Z
UID:9376612026-06-07 08:30:00+01:00achurchnearyou
CATEGORIES:
DESCRIPTION:A traditional prayer book service of Holy Communion held on th
 e first Sunday of each month in the Lady Chapel
GEO:-2.163363;54.044879
LOCATION:Kirkby-in-Malhamdale: St Michael the Archangel
URL:https://www.kirkbymalhamchurch.org/
END:VEVENT
BEGIN:VEVENT
SUMMARY:BCP Communion
DTSTART;TZID=Europe/London:20260705T083000
DTEND;TZID=Europe/London:20260705T090000
DTSTAMP:20260424T125453Z
UID:9376612026-07-05 08:30:00+01:00achurchnearyou
CATEGORIES:
DESCRIPTION:A traditional prayer book service of Holy Communion held on th
 e first Sunday of each month in the Lady Chapel
GEO:-2.163363;54.044879
LOCATION:Kirkby-in-Malhamdale: St Michael the Archangel
URL:https://www.kirkbymalhamchurch.org/
END:VEVENT
BEGIN:VEVENT
SUMMARY:BCP Communion
DTSTART;TZID=Europe/London:20260802T083000
DTEND;TZID=Europe/London:20260802T090000
DTSTAMP:20260424T125453Z
UID:9376612026-08-02 08:30:00+01:00achurchnearyou
CATEGORIES:
DESCRIPTION:A traditional prayer book service of Holy Communion held on th
 e first Sunday of each month in the Lady Chapel
GEO:-2.163363;54.044879
LOCATION:Kirkby-in-Malhamdale: St Michael the Archangel
URL:https://www.kirkbymalhamchurch.org/
END:VEVENT
BEGIN:VEVENT
SUMMARY:BCP Communion
DTSTART;TZID=Europe/London:20260906T083000
DTEND;TZID=Europe/London:20260906T090000
DTSTAMP:20260424T125453Z
UID:9376612026-09-06 08:30:00+01:00achurchnearyou
CATEGORIES:
DESCRIPTION:A traditional prayer book service of Holy Communion held on th
 e first Sunday of each month in the Lady Chapel
GEO:-2.163363;54.044879
LOCATION:Kirkby-in-Malhamdale: St Michael the Archangel
URL:https://www.kirkbymalhamchurch.org/
END:VEVENT
BEGIN:VEVENT
SUMMARY:BCP Communion
DTSTART;TZID=Europe/London:20261004T083000
DTEND;TZID=Europe/London:20261004T090000
DTSTAMP:20260424T125453Z
UID:9376612026-10-04 08:30:00+01:00achurchnearyou
CATEGORIES:
DESCRIPTION:A traditional prayer book service of Holy Communion held on th
 e first Sunday of each month in the Lady Chapel
GEO:-2.163363;54.044879
LOCATION:Kirkby-in-Malhamdale: St Michael the Archangel
URL:https://www.kirkbymalhamchurch.org/
END:VEVENT
BEGIN:VEVENT
SUMMARY:BCP Communion
DTSTART;TZID=Europe/London:20261101T083000
DTEND;TZID=Europe/London:20261101T090000
DTSTAMP:20260424T125453Z
UID:9376612026-11-01 08:30:00+00:00achurchnearyou
CATEGORIES:
DESCRIPTION:A traditional prayer book service of Holy Communion held on th
 e first Sunday of each month in the Lady Chapel
GEO:-2.163363;54.044879
LOCATION:Kirkby-in-Malhamdale: St Michael the Archangel
URL:https://www.kirkbymalhamchurch.org/
END:VEVENT
BEGIN:VEVENT
SUMMARY:BCP Communion
DTSTART;TZID=Europe/London:20261206T083000
DTEND;TZID=Europe/London:20261206T090000
DTSTAMP:20260424T125453Z
UID:9376612026-12-06 08:30:00+00:00achurchnearyou
CATEGORIES:
DESCRIPTION:A traditional prayer book service of Holy Communion held on th
 e first Sunday of each month in the Lady Chapel
GEO:-2.163363;54.044879
LOCATION:Kirkby-in-Malhamdale: St Michael the Archangel
URL:https://www.kirkbymalhamchurch.org/
END:VEVENT
BEGIN:VEVENT
SUMMARY:BCP Communion
DTSTART;TZID=Europe/London:20270103T083000
DTEND;TZID=Europe/London:20270103T090000
DTSTAMP:20260424T125453Z
UID:9376612027-01-03 08:30:00+00:00achurchnearyou
CATEGORIES:
DESCRIPTION:A traditional prayer book service of Holy Communion held on th
 e first Sunday of each month in the Lady Chapel
GEO:-2.163363;54.044879
LOCATION:Kirkby-in-Malhamdale: St Michael the Archangel
URL:https://www.kirkbymalhamchurch.org/
END:VEVENT
BEGIN:VEVENT
SUMMARY:BCP Communion
DTSTART;TZID=Europe/London:20270207T083000
DTEND;TZID=Europe/London:20270207T090000
DTSTAMP:20260424T125453Z
UID:9376612027-02-07 08:30:00+00:00achurchnearyou
CATEGORIES:
DESCRIPTION:A traditional prayer book service of Holy Communion held on th
 e first Sunday of each month in the Lady Chapel
GEO:-2.163363;54.044879
LOCATION:Kirkby-in-Malhamdale: St Michael the Archangel
URL:https://www.kirkbymalhamchurch.org/
END:VEVENT
BEGIN:VEVENT
SUMMARY:BCP Communion
DTSTART;TZID=Europe/London:20270307T083000
DTEND;TZID=Europe/London:20270307T090000
DTSTAMP:20260424T125453Z
UID:9376612027-03-07 08:30:00+00:00achurchnearyou
CATEGORIES:
DESCRIPTION:A traditional prayer book service of Holy Communion held on th
 e first Sunday of each month in the Lady Chapel
GEO:-2.163363;54.044879
LOCATION:Kirkby-in-Malhamdale: St Michael the Archangel
URL:https://www.kirkbymalhamchurch.org/
END:VEVENT
BEGIN:VEVENT
SUMMARY:BCP Communion
DTSTART;TZID=Europe/London:20270404T083000
DTEND;TZID=Europe/London:20270404T090000
DTSTAMP:20260424T125453Z
UID:9376612027-04-04 08:30:00+01:00achurchnearyou
CATEGORIES:
DESCRIPTION:A traditional prayer book service of Holy Communion held on th
 e first Sunday of each month in the Lady Chapel
GEO:-2.163363;54.044879
LOCATION:Kirkby-in-Malhamdale: St Michael the Archangel
URL:https://www.kirkbymalhamchurch.org/
END:VEVENT
END:VCALENDAR
