BEGIN:VCALENDAR
VERSION:2.0
PRODID:-//achurchnearyou.com//eventfeed//EN
CALSCALE:GREGORIAN
METHOD:PUBLISH
X-WR-TIMEZONE:UTC
BEGIN:VEVENT
SUMMARY:Morning worship with Sunday School
DTSTART;TZID=Europe/London:20260503T110000
DTEND;TZID=Europe/London:20260503T120000
DTSTAMP:20260422T173725Z
UID:11001852026-05-03 11:00:00+01:00achurchnearyou
CATEGORIES:
DESCRIPTION:Safeguarded and qualified teacher-driven Sunday School during 
 the morning worship in the 'upper room'.  Children come into the church fo
 r the first part of the service then go to their own class.
LOCATION:Haversham: St Mary
URL:https://www.achurchnearyou.com/church/5320/service-and-events/events/1
 100185/
END:VEVENT
BEGIN:VEVENT
SUMMARY:Morning worship with Sunday School
DTSTART;TZID=Europe/London:20260607T110000
DTEND;TZID=Europe/London:20260607T120000
DTSTAMP:20260422T173725Z
UID:11001852026-06-07 11:00:00+01:00achurchnearyou
CATEGORIES:
DESCRIPTION:Safeguarded and qualified teacher-driven Sunday School during 
 the morning worship in the 'upper room'.  Children come into the church fo
 r the first part of the service then go to their own class.
LOCATION:Haversham: St Mary
URL:https://www.achurchnearyou.com/church/5320/service-and-events/events/1
 100185/
END:VEVENT
BEGIN:VEVENT
SUMMARY:Morning worship with Sunday School
DTSTART;TZID=Europe/London:20260705T110000
DTEND;TZID=Europe/London:20260705T120000
DTSTAMP:20260422T173725Z
UID:11001852026-07-05 11:00:00+01:00achurchnearyou
CATEGORIES:
DESCRIPTION:Safeguarded and qualified teacher-driven Sunday School during 
 the morning worship in the 'upper room'.  Children come into the church fo
 r the first part of the service then go to their own class.
LOCATION:Haversham: St Mary
URL:https://www.achurchnearyou.com/church/5320/service-and-events/events/1
 100185/
END:VEVENT
BEGIN:VEVENT
SUMMARY:Morning worship with Sunday School
DTSTART;TZID=Europe/London:20260802T110000
DTEND;TZID=Europe/London:20260802T120000
DTSTAMP:20260422T173725Z
UID:11001852026-08-02 11:00:00+01:00achurchnearyou
CATEGORIES:
DESCRIPTION:Safeguarded and qualified teacher-driven Sunday School during 
 the morning worship in the 'upper room'.  Children come into the church fo
 r the first part of the service then go to their own class.
LOCATION:Haversham: St Mary
URL:https://www.achurchnearyou.com/church/5320/service-and-events/events/1
 100185/
END:VEVENT
BEGIN:VEVENT
SUMMARY:Morning worship with Sunday School
DTSTART;TZID=Europe/London:20260906T110000
DTEND;TZID=Europe/London:20260906T120000
DTSTAMP:20260422T173725Z
UID:11001852026-09-06 11:00:00+01:00achurchnearyou
CATEGORIES:
DESCRIPTION:Safeguarded and qualified teacher-driven Sunday School during 
 the morning worship in the 'upper room'.  Children come into the church fo
 r the first part of the service then go to their own class.
LOCATION:Haversham: St Mary
URL:https://www.achurchnearyou.com/church/5320/service-and-events/events/1
 100185/
END:VEVENT
BEGIN:VEVENT
SUMMARY:Morning worship with Sunday School
DTSTART;TZID=Europe/London:20261004T110000
DTEND;TZID=Europe/London:20261004T120000
DTSTAMP:20260422T173725Z
UID:11001852026-10-04 11:00:00+01:00achurchnearyou
CATEGORIES:
DESCRIPTION:Safeguarded and qualified teacher-driven Sunday School during 
 the morning worship in the 'upper room'.  Children come into the church fo
 r the first part of the service then go to their own class.
LOCATION:Haversham: St Mary
URL:https://www.achurchnearyou.com/church/5320/service-and-events/events/1
 100185/
END:VEVENT
BEGIN:VEVENT
SUMMARY:Morning worship with Sunday School
DTSTART;TZID=Europe/London:20261101T110000
DTEND;TZID=Europe/London:20261101T120000
DTSTAMP:20260422T173725Z
UID:11001852026-11-01 11:00:00+00:00achurchnearyou
CATEGORIES:
DESCRIPTION:Safeguarded and qualified teacher-driven Sunday School during 
 the morning worship in the 'upper room'.  Children come into the church fo
 r the first part of the service then go to their own class.
LOCATION:Haversham: St Mary
URL:https://www.achurchnearyou.com/church/5320/service-and-events/events/1
 100185/
END:VEVENT
BEGIN:VEVENT
SUMMARY:Morning worship with Sunday School
DTSTART;TZID=Europe/London:20261206T110000
DTEND;TZID=Europe/London:20261206T120000
DTSTAMP:20260422T173725Z
UID:11001852026-12-06 11:00:00+00:00achurchnearyou
CATEGORIES:
DESCRIPTION:Safeguarded and qualified teacher-driven Sunday School during 
 the morning worship in the 'upper room'.  Children come into the church fo
 r the first part of the service then go to their own class.
LOCATION:Haversham: St Mary
URL:https://www.achurchnearyou.com/church/5320/service-and-events/events/1
 100185/
END:VEVENT
BEGIN:VEVENT
SUMMARY:Morning worship with Sunday School
DTSTART;TZID=Europe/London:20270103T110000
DTEND;TZID=Europe/London:20270103T120000
DTSTAMP:20260422T173725Z
UID:11001852027-01-03 11:00:00+00:00achurchnearyou
CATEGORIES:
DESCRIPTION:Safeguarded and qualified teacher-driven Sunday School during 
 the morning worship in the 'upper room'.  Children come into the church fo
 r the first part of the service then go to their own class.
LOCATION:Haversham: St Mary
URL:https://www.achurchnearyou.com/church/5320/service-and-events/events/1
 100185/
END:VEVENT
BEGIN:VEVENT
SUMMARY:Morning worship with Sunday School
DTSTART;TZID=Europe/London:20270207T110000
DTEND;TZID=Europe/London:20270207T120000
DTSTAMP:20260422T173725Z
UID:11001852027-02-07 11:00:00+00:00achurchnearyou
CATEGORIES:
DESCRIPTION:Safeguarded and qualified teacher-driven Sunday School during 
 the morning worship in the 'upper room'.  Children come into the church fo
 r the first part of the service then go to their own class.
LOCATION:Haversham: St Mary
URL:https://www.achurchnearyou.com/church/5320/service-and-events/events/1
 100185/
END:VEVENT
BEGIN:VEVENT
SUMMARY:Morning worship with Sunday School
DTSTART;TZID=Europe/London:20270307T110000
DTEND;TZID=Europe/London:20270307T120000
DTSTAMP:20260422T173725Z
UID:11001852027-03-07 11:00:00+00:00achurchnearyou
CATEGORIES:
DESCRIPTION:Safeguarded and qualified teacher-driven Sunday School during 
 the morning worship in the 'upper room'.  Children come into the church fo
 r the first part of the service then go to their own class.
LOCATION:Haversham: St Mary
URL:https://www.achurchnearyou.com/church/5320/service-and-events/events/1
 100185/
END:VEVENT
BEGIN:VEVENT
SUMMARY:Morning worship with Sunday School
DTSTART;TZID=Europe/London:20270404T110000
DTEND;TZID=Europe/London:20270404T120000
DTSTAMP:20260422T173725Z
UID:11001852027-04-04 11:00:00+01:00achurchnearyou
CATEGORIES:
DESCRIPTION:Safeguarded and qualified teacher-driven Sunday School during 
 the morning worship in the 'upper room'.  Children come into the church fo
 r the first part of the service then go to their own class.
LOCATION:Haversham: St Mary
URL:https://www.achurchnearyou.com/church/5320/service-and-events/events/1
 100185/
END:VEVENT
END:VCALENDAR
