BEGIN:VCALENDAR
VERSION:2.0
PRODID:-//achurchnearyou.com//eventfeed//EN
CALSCALE:GREGORIAN
METHOD:PUBLISH
X-WR-TIMEZONE:UTC
BEGIN:VEVENT
SUMMARY:Maundy Thursday Communion Service
DTSTART;TZID=Europe/London:20260402T200000
DTEND;TZID=Europe/London:20260402T210000
DTSTAMP:20260424T214944Z
UID:12840321775156400.0achurchnearyou
CATEGORIES:
DESCRIPTION:Maundy Thursday Holy Communion Service.
GEO:-0.857631;51.450189
LOCATION:Hurst: St Nicholas
URL:https://www.achurchnearyou.com/church/5339/service-and-events/events/1
 284032/
END:VEVENT
BEGIN:VEVENT
SUMMARY:Good Friday Stations of the Cross Service
DTSTART;TZID=Europe/London:20260403T140000
DTEND;TZID=Europe/London:20260403T150000
DTSTAMP:20260424T214944Z
UID:12840331775221200.0achurchnearyou
CATEGORIES:
DESCRIPTION:Good Friday Stations of the Cross Service
GEO:-0.857631;51.450189
LOCATION:Hurst: St Nicholas
URL:https://www.achurchnearyou.com/church/5339/service-and-events/events/1
 284033/
END:VEVENT
BEGIN:VEVENT
SUMMARY:Easter Sunday Communion
DTSTART;TZID=Europe/London:20260405T110000
DTEND;TZID=Europe/London:20260405T120000
DTSTAMP:20260424T214944Z
UID:12820241775383200.0achurchnearyou
CATEGORIES:
DESCRIPTION:Easter Sunday Communion Service
GEO:-0.857631;51.450189
LOCATION:Hurst: St Nicholas
URL:https://www.achurchnearyou.com/church/5339/service-and-events/events/1
 282024/
END:VEVENT
BEGIN:VEVENT
SUMMARY:Children's Discovery Zone
DTSTART;TZID=Europe/London:20260405T110000
DTEND;TZID=Europe/London:20260405T120000
DTSTAMP:20260424T214944Z
UID:9681661775383200.0achurchnearyou
CATEGORIES:
DESCRIPTION:Sunday school with a difference!  Open to children from ages 6
 /7+ yrs.
GEO:-0.857631;51.450189
LOCATION:Hurst: St Nicholas
URL:https://www.achurchnearyou.com/church/5339/service-and-events/events/9
 68166/
END:VEVENT
BEGIN:VEVENT
SUMMARY:Holy Communion Service
DTSTART;TZID=Europe/London:20260405T110000
DTEND;TZID=Europe/London:20260405T120000
DTSTAMP:20260424T214944Z
UID:9681591775383200.0achurchnearyou
CATEGORIES:
DESCRIPTION:Every Sunday\, apart from the 4th Sunday\, at 11 a.m. for 1 ho
 ur\nA Eucharistic service with Sunday Club or access to an Activity table 
 for children during termtime. Please check link 'Pattern of Services' for 
 up to date information.
GEO:-0.857631;51.450189
LOCATION:Hurst: St Nicholas
URL:https://www.achurchnearyou.com/church/5339/service-and-events/events/9
 68159/
END:VEVENT
BEGIN:VEVENT
SUMMARY:Children's Discovery Zone
DTSTART;TZID=Europe/London:20260412T110000
DTEND;TZID=Europe/London:20260412T120000
DTSTAMP:20260424T214944Z
UID:9681661775988000.0achurchnearyou
CATEGORIES:
DESCRIPTION:Sunday school with a difference!  Open to children from ages 6
 /7+ yrs.
GEO:-0.857631;51.450189
LOCATION:Hurst: St Nicholas
URL:https://www.achurchnearyou.com/church/5339/service-and-events/events/9
 68166/
END:VEVENT
BEGIN:VEVENT
SUMMARY:Holy Communion Service
DTSTART;TZID=Europe/London:20260412T110000
DTEND;TZID=Europe/London:20260412T120000
DTSTAMP:20260424T214944Z
UID:9681591775988000.0achurchnearyou
CATEGORIES:
DESCRIPTION:Every Sunday\, apart from the 4th Sunday\, at 11 a.m. for 1 ho
 ur\nA Eucharistic service with Sunday Club or access to an Activity table 
 for children during termtime. Please check link 'Pattern of Services' for 
 up to date information.
GEO:-0.857631;51.450189
LOCATION:Hurst: St Nicholas
URL:https://www.achurchnearyou.com/church/5339/service-and-events/events/9
 68159/
END:VEVENT
BEGIN:VEVENT
SUMMARY:Youth Club
DTSTART;TZID=Europe/London:20260417T190000
DTEND;TZID=Europe/London:20260417T203000
DTSTAMP:20260424T214944Z
UID:9681721776448800.0achurchnearyou
CATEGORIES:
DESCRIPTION:St Nicholas Youth Club for anyone in school years 7-9.
LOCATION:Scout HQ
URL:https://www.achurchnearyou.com/church/5339/service-and-events/events/9
 68172/
END:VEVENT
BEGIN:VEVENT
SUMMARY:Children's Discovery Zone
DTSTART;TZID=Europe/London:20260419T110000
DTEND;TZID=Europe/London:20260419T120000
DTSTAMP:20260424T214944Z
UID:9681661776592800.0achurchnearyou
CATEGORIES:
DESCRIPTION:Sunday school with a difference!  Open to children from ages 6
 /7+ yrs.
GEO:-0.857631;51.450189
LOCATION:Hurst: St Nicholas
URL:https://www.achurchnearyou.com/church/5339/service-and-events/events/9
 68166/
END:VEVENT
BEGIN:VEVENT
SUMMARY:Holy Communion Service
DTSTART;TZID=Europe/London:20260419T110000
DTEND;TZID=Europe/London:20260419T120000
DTSTAMP:20260424T214944Z
UID:9681591776592800.0achurchnearyou
CATEGORIES:
DESCRIPTION:Every Sunday\, apart from the 4th Sunday\, at 11 a.m. for 1 ho
 ur\nA Eucharistic service with Sunday Club or access to an Activity table 
 for children during termtime. Please check link 'Pattern of Services' for 
 up to date information.
GEO:-0.857631;51.450189
LOCATION:Hurst: St Nicholas
URL:https://www.achurchnearyou.com/church/5339/service-and-events/events/9
 68159/
END:VEVENT
BEGIN:VEVENT
SUMMARY:Messy Church
DTSTART;TZID=Europe/London:20260426T110000
DTEND;TZID=Europe/London:20260426T120000
DTSTAMP:20260424T214944Z
UID:12102701777197600.0achurchnearyou
CATEGORIES:
DESCRIPTION:At Messy Church we celebrate God in our community by listening
  to stories\, making things\, singing\, praying\, sharing refreshments\, t
 alking......
GEO:-0.857631;51.450189
LOCATION:Hurst: St Nicholas
URL:https://www.achurchnearyou.com/church/5339/service-and-events/events/1
 210270/
END:VEVENT
BEGIN:VEVENT
SUMMARY:Children's Discovery Zone
DTSTART;TZID=Europe/London:20260503T110000
DTEND;TZID=Europe/London:20260503T120000
DTSTAMP:20260424T214944Z
UID:9681661777802400.0achurchnearyou
CATEGORIES:
DESCRIPTION:Sunday school with a difference!  Open to children from ages 6
 /7+ yrs.
GEO:-0.857631;51.450189
LOCATION:Hurst: St Nicholas
URL:https://www.achurchnearyou.com/church/5339/service-and-events/events/9
 68166/
END:VEVENT
BEGIN:VEVENT
SUMMARY:Holy Communion Service
DTSTART;TZID=Europe/London:20260503T110000
DTEND;TZID=Europe/London:20260503T120000
DTSTAMP:20260424T214944Z
UID:9681591777802400.0achurchnearyou
CATEGORIES:
DESCRIPTION:Every Sunday\, apart from the 4th Sunday\, at 11 a.m. for 1 ho
 ur\nA Eucharistic service with Sunday Club or access to an Activity table 
 for children during termtime. Please check link 'Pattern of Services' for 
 up to date information.
GEO:-0.857631;51.450189
LOCATION:Hurst: St Nicholas
URL:https://www.achurchnearyou.com/church/5339/service-and-events/events/9
 68159/
END:VEVENT
BEGIN:VEVENT
SUMMARY:Children's Discovery Zone
DTSTART;TZID=Europe/London:20260510T110000
DTEND;TZID=Europe/London:20260510T120000
DTSTAMP:20260424T214944Z
UID:9681661778407200.0achurchnearyou
CATEGORIES:
DESCRIPTION:Sunday school with a difference!  Open to children from ages 6
 /7+ yrs.
GEO:-0.857631;51.450189
LOCATION:Hurst: St Nicholas
URL:https://www.achurchnearyou.com/church/5339/service-and-events/events/9
 68166/
END:VEVENT
BEGIN:VEVENT
SUMMARY:Holy Communion Service
DTSTART;TZID=Europe/London:20260510T110000
DTEND;TZID=Europe/London:20260510T120000
DTSTAMP:20260424T214944Z
UID:9681591778407200.0achurchnearyou
CATEGORIES:
DESCRIPTION:Every Sunday\, apart from the 4th Sunday\, at 11 a.m. for 1 ho
 ur\nA Eucharistic service with Sunday Club or access to an Activity table 
 for children during termtime. Please check link 'Pattern of Services' for 
 up to date information.
GEO:-0.857631;51.450189
LOCATION:Hurst: St Nicholas
URL:https://www.achurchnearyou.com/church/5339/service-and-events/events/9
 68159/
END:VEVENT
BEGIN:VEVENT
SUMMARY:Youth Club
DTSTART;TZID=Europe/London:20260515T190000
DTEND;TZID=Europe/London:20260515T203000
DTSTAMP:20260424T214944Z
UID:9681721778868000.0achurchnearyou
CATEGORIES:
DESCRIPTION:St Nicholas Youth Club for anyone in school years 7-9.
LOCATION:Scout HQ
URL:https://www.achurchnearyou.com/church/5339/service-and-events/events/9
 68172/
END:VEVENT
BEGIN:VEVENT
SUMMARY:Children's Discovery Zone
DTSTART;TZID=Europe/London:20260517T110000
DTEND;TZID=Europe/London:20260517T120000
DTSTAMP:20260424T214944Z
UID:9681661779012000.0achurchnearyou
CATEGORIES:
DESCRIPTION:Sunday school with a difference!  Open to children from ages 6
 /7+ yrs.
GEO:-0.857631;51.450189
LOCATION:Hurst: St Nicholas
URL:https://www.achurchnearyou.com/church/5339/service-and-events/events/9
 68166/
END:VEVENT
BEGIN:VEVENT
SUMMARY:Holy Communion Service
DTSTART;TZID=Europe/London:20260517T110000
DTEND;TZID=Europe/London:20260517T120000
DTSTAMP:20260424T214944Z
UID:9681591779012000.0achurchnearyou
CATEGORIES:
DESCRIPTION:Every Sunday\, apart from the 4th Sunday\, at 11 a.m. for 1 ho
 ur\nA Eucharistic service with Sunday Club or access to an Activity table 
 for children during termtime. Please check link 'Pattern of Services' for 
 up to date information.
GEO:-0.857631;51.450189
LOCATION:Hurst: St Nicholas
URL:https://www.achurchnearyou.com/church/5339/service-and-events/events/9
 68159/
END:VEVENT
BEGIN:VEVENT
SUMMARY:APCM
DTSTART;TZID=Europe/London:20260518T193000
DTEND;TZID=Europe/London:20260518T213000
DTSTAMP:20260424T214944Z
UID:13133691779129000.0achurchnearyou
CATEGORIES:
DESCRIPTION:Annual APCM to present reports on the Church over the last yea
 r.
GEO:-0.857631;51.450189
LOCATION:Hurst: St Nicholas
URL:https://www.achurchnearyou.com/church/5339/service-and-events/events/1
 313369/
END:VEVENT
BEGIN:VEVENT
SUMMARY:Messy Church
DTSTART;TZID=Europe/London:20260524T110000
DTEND;TZID=Europe/London:20260524T120000
DTSTAMP:20260424T214944Z
UID:12102701779616800.0achurchnearyou
CATEGORIES:
DESCRIPTION:At Messy Church we celebrate God in our community by listening
  to stories\, making things\, singing\, praying\, sharing refreshments\, t
 alking......
GEO:-0.857631;51.450189
LOCATION:Hurst: St Nicholas
URL:https://www.achurchnearyou.com/church/5339/service-and-events/events/1
 210270/
END:VEVENT
BEGIN:VEVENT
SUMMARY:Children's Discovery Zone
DTSTART;TZID=Europe/London:20260531T110000
DTEND;TZID=Europe/London:20260531T120000
DTSTAMP:20260424T214944Z
UID:9681661780221600.0achurchnearyou
CATEGORIES:
DESCRIPTION:Sunday school with a difference!  Open to children from ages 6
 /7+ yrs.
GEO:-0.857631;51.450189
LOCATION:Hurst: St Nicholas
URL:https://www.achurchnearyou.com/church/5339/service-and-events/events/9
 68166/
END:VEVENT
BEGIN:VEVENT
SUMMARY:Holy Communion Service
DTSTART;TZID=Europe/London:20260531T110000
DTEND;TZID=Europe/London:20260531T120000
DTSTAMP:20260424T214944Z
UID:9681591780221600.0achurchnearyou
CATEGORIES:
DESCRIPTION:Every Sunday\, apart from the 4th Sunday\, at 11 a.m. for 1 ho
 ur\nA Eucharistic service with Sunday Club or access to an Activity table 
 for children during termtime. Please check link 'Pattern of Services' for 
 up to date information.
GEO:-0.857631;51.450189
LOCATION:Hurst: St Nicholas
URL:https://www.achurchnearyou.com/church/5339/service-and-events/events/9
 68159/
END:VEVENT
BEGIN:VEVENT
SUMMARY:Children's Discovery Zone
DTSTART;TZID=Europe/London:20260607T110000
DTEND;TZID=Europe/London:20260607T120000
DTSTAMP:20260424T214944Z
UID:9681661780826400.0achurchnearyou
CATEGORIES:
DESCRIPTION:Sunday school with a difference!  Open to children from ages 6
 /7+ yrs.
GEO:-0.857631;51.450189
LOCATION:Hurst: St Nicholas
URL:https://www.achurchnearyou.com/church/5339/service-and-events/events/9
 68166/
END:VEVENT
BEGIN:VEVENT
SUMMARY:Holy Communion Service
DTSTART;TZID=Europe/London:20260607T110000
DTEND;TZID=Europe/London:20260607T120000
DTSTAMP:20260424T214944Z
UID:9681591780826400.0achurchnearyou
CATEGORIES:
DESCRIPTION:Every Sunday\, apart from the 4th Sunday\, at 11 a.m. for 1 ho
 ur\nA Eucharistic service with Sunday Club or access to an Activity table 
 for children during termtime. Please check link 'Pattern of Services' for 
 up to date information.
GEO:-0.857631;51.450189
LOCATION:Hurst: St Nicholas
URL:https://www.achurchnearyou.com/church/5339/service-and-events/events/9
 68159/
END:VEVENT
BEGIN:VEVENT
SUMMARY:Children's Discovery Zone
DTSTART;TZID=Europe/London:20260614T110000
DTEND;TZID=Europe/London:20260614T120000
DTSTAMP:20260424T214944Z
UID:9681661781431200.0achurchnearyou
CATEGORIES:
DESCRIPTION:Sunday school with a difference!  Open to children from ages 6
 /7+ yrs.
GEO:-0.857631;51.450189
LOCATION:Hurst: St Nicholas
URL:https://www.achurchnearyou.com/church/5339/service-and-events/events/9
 68166/
END:VEVENT
BEGIN:VEVENT
SUMMARY:Holy Communion Service
DTSTART;TZID=Europe/London:20260614T110000
DTEND;TZID=Europe/London:20260614T120000
DTSTAMP:20260424T214944Z
UID:9681591781431200.0achurchnearyou
CATEGORIES:
DESCRIPTION:Every Sunday\, apart from the 4th Sunday\, at 11 a.m. for 1 ho
 ur\nA Eucharistic service with Sunday Club or access to an Activity table 
 for children during termtime. Please check link 'Pattern of Services' for 
 up to date information.
GEO:-0.857631;51.450189
LOCATION:Hurst: St Nicholas
URL:https://www.achurchnearyou.com/church/5339/service-and-events/events/9
 68159/
END:VEVENT
BEGIN:VEVENT
SUMMARY:Youth Club
DTSTART;TZID=Europe/London:20260619T190000
DTEND;TZID=Europe/London:20260619T203000
DTSTAMP:20260424T214944Z
UID:9681721781892000.0achurchnearyou
CATEGORIES:
DESCRIPTION:St Nicholas Youth Club for anyone in school years 7-9.
LOCATION:Scout HQ
URL:https://www.achurchnearyou.com/church/5339/service-and-events/events/9
 68172/
END:VEVENT
BEGIN:VEVENT
SUMMARY:Children's Discovery Zone
DTSTART;TZID=Europe/London:20260621T110000
DTEND;TZID=Europe/London:20260621T120000
DTSTAMP:20260424T214944Z
UID:9681661782036000.0achurchnearyou
CATEGORIES:
DESCRIPTION:Sunday school with a difference!  Open to children from ages 6
 /7+ yrs.
GEO:-0.857631;51.450189
LOCATION:Hurst: St Nicholas
URL:https://www.achurchnearyou.com/church/5339/service-and-events/events/9
 68166/
END:VEVENT
BEGIN:VEVENT
SUMMARY:Holy Communion Service
DTSTART;TZID=Europe/London:20260621T110000
DTEND;TZID=Europe/London:20260621T120000
DTSTAMP:20260424T214944Z
UID:9681591782036000.0achurchnearyou
CATEGORIES:
DESCRIPTION:Every Sunday\, apart from the 4th Sunday\, at 11 a.m. for 1 ho
 ur\nA Eucharistic service with Sunday Club or access to an Activity table 
 for children during termtime. Please check link 'Pattern of Services' for 
 up to date information.
GEO:-0.857631;51.450189
LOCATION:Hurst: St Nicholas
URL:https://www.achurchnearyou.com/church/5339/service-and-events/events/9
 68159/
END:VEVENT
BEGIN:VEVENT
SUMMARY:Children's Discovery Zone
DTSTART;TZID=Europe/London:20260705T110000
DTEND;TZID=Europe/London:20260705T120000
DTSTAMP:20260424T214944Z
UID:9681661783245600.0achurchnearyou
CATEGORIES:
DESCRIPTION:Sunday school with a difference!  Open to children from ages 6
 /7+ yrs.
GEO:-0.857631;51.450189
LOCATION:Hurst: St Nicholas
URL:https://www.achurchnearyou.com/church/5339/service-and-events/events/9
 68166/
END:VEVENT
BEGIN:VEVENT
SUMMARY:Holy Communion Service
DTSTART;TZID=Europe/London:20260705T110000
DTEND;TZID=Europe/London:20260705T120000
DTSTAMP:20260424T214944Z
UID:9681591783245600.0achurchnearyou
CATEGORIES:
DESCRIPTION:Every Sunday\, apart from the 4th Sunday\, at 11 a.m. for 1 ho
 ur\nA Eucharistic service with Sunday Club or access to an Activity table 
 for children during termtime. Please check link 'Pattern of Services' for 
 up to date information.
GEO:-0.857631;51.450189
LOCATION:Hurst: St Nicholas
URL:https://www.achurchnearyou.com/church/5339/service-and-events/events/9
 68159/
END:VEVENT
BEGIN:VEVENT
SUMMARY:Children's Discovery Zone
DTSTART;TZID=Europe/London:20260712T110000
DTEND;TZID=Europe/London:20260712T120000
DTSTAMP:20260424T214944Z
UID:9681661783850400.0achurchnearyou
CATEGORIES:
DESCRIPTION:Sunday school with a difference!  Open to children from ages 6
 /7+ yrs.
GEO:-0.857631;51.450189
LOCATION:Hurst: St Nicholas
URL:https://www.achurchnearyou.com/church/5339/service-and-events/events/9
 68166/
END:VEVENT
BEGIN:VEVENT
SUMMARY:Holy Communion Service
DTSTART;TZID=Europe/London:20260712T110000
DTEND;TZID=Europe/London:20260712T120000
DTSTAMP:20260424T214944Z
UID:9681591783850400.0achurchnearyou
CATEGORIES:
DESCRIPTION:Every Sunday\, apart from the 4th Sunday\, at 11 a.m. for 1 ho
 ur\nA Eucharistic service with Sunday Club or access to an Activity table 
 for children during termtime. Please check link 'Pattern of Services' for 
 up to date information.
GEO:-0.857631;51.450189
LOCATION:Hurst: St Nicholas
URL:https://www.achurchnearyou.com/church/5339/service-and-events/events/9
 68159/
END:VEVENT
BEGIN:VEVENT
SUMMARY:Youth Club
DTSTART;TZID=Europe/London:20260717T190000
DTEND;TZID=Europe/London:20260717T203000
DTSTAMP:20260424T214944Z
UID:9681721784311200.0achurchnearyou
CATEGORIES:
DESCRIPTION:St Nicholas Youth Club for anyone in school years 7-9.
LOCATION:Scout HQ
URL:https://www.achurchnearyou.com/church/5339/service-and-events/events/9
 68172/
END:VEVENT
BEGIN:VEVENT
SUMMARY:Children's Discovery Zone
DTSTART;TZID=Europe/London:20260719T110000
DTEND;TZID=Europe/London:20260719T120000
DTSTAMP:20260424T214944Z
UID:9681661784455200.0achurchnearyou
CATEGORIES:
DESCRIPTION:Sunday school with a difference!  Open to children from ages 6
 /7+ yrs.
GEO:-0.857631;51.450189
LOCATION:Hurst: St Nicholas
URL:https://www.achurchnearyou.com/church/5339/service-and-events/events/9
 68166/
END:VEVENT
BEGIN:VEVENT
SUMMARY:Holy Communion Service
DTSTART;TZID=Europe/London:20260719T110000
DTEND;TZID=Europe/London:20260719T120000
DTSTAMP:20260424T214944Z
UID:9681591784455200.0achurchnearyou
CATEGORIES:
DESCRIPTION:Every Sunday\, apart from the 4th Sunday\, at 11 a.m. for 1 ho
 ur\nA Eucharistic service with Sunday Club or access to an Activity table 
 for children during termtime. Please check link 'Pattern of Services' for 
 up to date information.
GEO:-0.857631;51.450189
LOCATION:Hurst: St Nicholas
URL:https://www.achurchnearyou.com/church/5339/service-and-events/events/9
 68159/
END:VEVENT
BEGIN:VEVENT
SUMMARY:Messy Church
DTSTART;TZID=Europe/London:20260726T110000
DTEND;TZID=Europe/London:20260726T120000
DTSTAMP:20260424T214944Z
UID:12102701785060000.0achurchnearyou
CATEGORIES:
DESCRIPTION:At Messy Church we celebrate God in our community by listening
  to stories\, making things\, singing\, praying\, sharing refreshments\, t
 alking......
GEO:-0.857631;51.450189
LOCATION:Hurst: St Nicholas
URL:https://www.achurchnearyou.com/church/5339/service-and-events/events/1
 210270/
END:VEVENT
BEGIN:VEVENT
SUMMARY:Children's Discovery Zone
DTSTART;TZID=Europe/London:20260802T110000
DTEND;TZID=Europe/London:20260802T120000
DTSTAMP:20260424T214944Z
UID:9681661785664800.0achurchnearyou
CATEGORIES:
DESCRIPTION:Sunday school with a difference!  Open to children from ages 6
 /7+ yrs.
GEO:-0.857631;51.450189
LOCATION:Hurst: St Nicholas
URL:https://www.achurchnearyou.com/church/5339/service-and-events/events/9
 68166/
END:VEVENT
BEGIN:VEVENT
SUMMARY:Holy Communion Service
DTSTART;TZID=Europe/London:20260802T110000
DTEND;TZID=Europe/London:20260802T120000
DTSTAMP:20260424T214944Z
UID:9681591785664800.0achurchnearyou
CATEGORIES:
DESCRIPTION:Every Sunday\, apart from the 4th Sunday\, at 11 a.m. for 1 ho
 ur\nA Eucharistic service with Sunday Club or access to an Activity table 
 for children during termtime. Please check link 'Pattern of Services' for 
 up to date information.
GEO:-0.857631;51.450189
LOCATION:Hurst: St Nicholas
URL:https://www.achurchnearyou.com/church/5339/service-and-events/events/9
 68159/
END:VEVENT
BEGIN:VEVENT
SUMMARY:Children's Discovery Zone
DTSTART;TZID=Europe/London:20260809T110000
DTEND;TZID=Europe/London:20260809T120000
DTSTAMP:20260424T214944Z
UID:9681661786269600.0achurchnearyou
CATEGORIES:
DESCRIPTION:Sunday school with a difference!  Open to children from ages 6
 /7+ yrs.
GEO:-0.857631;51.450189
LOCATION:Hurst: St Nicholas
URL:https://www.achurchnearyou.com/church/5339/service-and-events/events/9
 68166/
END:VEVENT
BEGIN:VEVENT
SUMMARY:Holy Communion Service
DTSTART;TZID=Europe/London:20260809T110000
DTEND;TZID=Europe/London:20260809T120000
DTSTAMP:20260424T214944Z
UID:9681591786269600.0achurchnearyou
CATEGORIES:
DESCRIPTION:Every Sunday\, apart from the 4th Sunday\, at 11 a.m. for 1 ho
 ur\nA Eucharistic service with Sunday Club or access to an Activity table 
 for children during termtime. Please check link 'Pattern of Services' for 
 up to date information.
GEO:-0.857631;51.450189
LOCATION:Hurst: St Nicholas
URL:https://www.achurchnearyou.com/church/5339/service-and-events/events/9
 68159/
END:VEVENT
BEGIN:VEVENT
SUMMARY:Children's Discovery Zone
DTSTART;TZID=Europe/London:20260816T110000
DTEND;TZID=Europe/London:20260816T120000
DTSTAMP:20260424T214944Z
UID:9681661786874400.0achurchnearyou
CATEGORIES:
DESCRIPTION:Sunday school with a difference!  Open to children from ages 6
 /7+ yrs.
GEO:-0.857631;51.450189
LOCATION:Hurst: St Nicholas
URL:https://www.achurchnearyou.com/church/5339/service-and-events/events/9
 68166/
END:VEVENT
BEGIN:VEVENT
SUMMARY:Holy Communion Service
DTSTART;TZID=Europe/London:20260816T110000
DTEND;TZID=Europe/London:20260816T120000
DTSTAMP:20260424T214944Z
UID:9681591786874400.0achurchnearyou
CATEGORIES:
DESCRIPTION:Every Sunday\, apart from the 4th Sunday\, at 11 a.m. for 1 ho
 ur\nA Eucharistic service with Sunday Club or access to an Activity table 
 for children during termtime. Please check link 'Pattern of Services' for 
 up to date information.
GEO:-0.857631;51.450189
LOCATION:Hurst: St Nicholas
URL:https://www.achurchnearyou.com/church/5339/service-and-events/events/9
 68159/
END:VEVENT
BEGIN:VEVENT
SUMMARY:Youth Club
DTSTART;TZID=Europe/London:20260821T190000
DTEND;TZID=Europe/London:20260821T203000
DTSTAMP:20260424T214944Z
UID:9681721787335200.0achurchnearyou
CATEGORIES:
DESCRIPTION:St Nicholas Youth Club for anyone in school years 7-9.
LOCATION:Scout HQ
URL:https://www.achurchnearyou.com/church/5339/service-and-events/events/9
 68172/
END:VEVENT
BEGIN:VEVENT
SUMMARY:Children's Discovery Zone
DTSTART;TZID=Europe/London:20260830T110000
DTEND;TZID=Europe/London:20260830T120000
DTSTAMP:20260424T214944Z
UID:9681661788084000.0achurchnearyou
CATEGORIES:
DESCRIPTION:Sunday school with a difference!  Open to children from ages 6
 /7+ yrs.
GEO:-0.857631;51.450189
LOCATION:Hurst: St Nicholas
URL:https://www.achurchnearyou.com/church/5339/service-and-events/events/9
 68166/
END:VEVENT
BEGIN:VEVENT
SUMMARY:Holy Communion Service
DTSTART;TZID=Europe/London:20260830T110000
DTEND;TZID=Europe/London:20260830T120000
DTSTAMP:20260424T214944Z
UID:9681591788084000.0achurchnearyou
CATEGORIES:
DESCRIPTION:Every Sunday\, apart from the 4th Sunday\, at 11 a.m. for 1 ho
 ur\nA Eucharistic service with Sunday Club or access to an Activity table 
 for children during termtime. Please check link 'Pattern of Services' for 
 up to date information.
GEO:-0.857631;51.450189
LOCATION:Hurst: St Nicholas
URL:https://www.achurchnearyou.com/church/5339/service-and-events/events/9
 68159/
END:VEVENT
BEGIN:VEVENT
SUMMARY:Children's Discovery Zone
DTSTART;TZID=Europe/London:20260906T110000
DTEND;TZID=Europe/London:20260906T120000
DTSTAMP:20260424T214944Z
UID:9681661788688800.0achurchnearyou
CATEGORIES:
DESCRIPTION:Sunday school with a difference!  Open to children from ages 6
 /7+ yrs.
GEO:-0.857631;51.450189
LOCATION:Hurst: St Nicholas
URL:https://www.achurchnearyou.com/church/5339/service-and-events/events/9
 68166/
END:VEVENT
BEGIN:VEVENT
SUMMARY:Holy Communion Service
DTSTART;TZID=Europe/London:20260906T110000
DTEND;TZID=Europe/London:20260906T120000
DTSTAMP:20260424T214944Z
UID:9681591788688800.0achurchnearyou
CATEGORIES:
DESCRIPTION:Every Sunday\, apart from the 4th Sunday\, at 11 a.m. for 1 ho
 ur\nA Eucharistic service with Sunday Club or access to an Activity table 
 for children during termtime. Please check link 'Pattern of Services' for 
 up to date information.
GEO:-0.857631;51.450189
LOCATION:Hurst: St Nicholas
URL:https://www.achurchnearyou.com/church/5339/service-and-events/events/9
 68159/
END:VEVENT
BEGIN:VEVENT
SUMMARY:Children's Discovery Zone
DTSTART;TZID=Europe/London:20260913T110000
DTEND;TZID=Europe/London:20260913T120000
DTSTAMP:20260424T214944Z
UID:9681661789293600.0achurchnearyou
CATEGORIES:
DESCRIPTION:Sunday school with a difference!  Open to children from ages 6
 /7+ yrs.
GEO:-0.857631;51.450189
LOCATION:Hurst: St Nicholas
URL:https://www.achurchnearyou.com/church/5339/service-and-events/events/9
 68166/
END:VEVENT
BEGIN:VEVENT
SUMMARY:Holy Communion Service
DTSTART;TZID=Europe/London:20260913T110000
DTEND;TZID=Europe/London:20260913T120000
DTSTAMP:20260424T214944Z
UID:9681591789293600.0achurchnearyou
CATEGORIES:
DESCRIPTION:Every Sunday\, apart from the 4th Sunday\, at 11 a.m. for 1 ho
 ur\nA Eucharistic service with Sunday Club or access to an Activity table 
 for children during termtime. Please check link 'Pattern of Services' for 
 up to date information.
GEO:-0.857631;51.450189
LOCATION:Hurst: St Nicholas
URL:https://www.achurchnearyou.com/church/5339/service-and-events/events/9
 68159/
END:VEVENT
BEGIN:VEVENT
SUMMARY:Youth Club
DTSTART;TZID=Europe/London:20260918T190000
DTEND;TZID=Europe/London:20260918T203000
DTSTAMP:20260424T214944Z
UID:9681721789754400.0achurchnearyou
CATEGORIES:
DESCRIPTION:St Nicholas Youth Club for anyone in school years 7-9.
LOCATION:Scout HQ
URL:https://www.achurchnearyou.com/church/5339/service-and-events/events/9
 68172/
END:VEVENT
BEGIN:VEVENT
SUMMARY:Children's Discovery Zone
DTSTART;TZID=Europe/London:20260920T110000
DTEND;TZID=Europe/London:20260920T120000
DTSTAMP:20260424T214944Z
UID:9681661789898400.0achurchnearyou
CATEGORIES:
DESCRIPTION:Sunday school with a difference!  Open to children from ages 6
 /7+ yrs.
GEO:-0.857631;51.450189
LOCATION:Hurst: St Nicholas
URL:https://www.achurchnearyou.com/church/5339/service-and-events/events/9
 68166/
END:VEVENT
BEGIN:VEVENT
SUMMARY:Holy Communion Service
DTSTART;TZID=Europe/London:20260920T110000
DTEND;TZID=Europe/London:20260920T120000
DTSTAMP:20260424T214944Z
UID:9681591789898400.0achurchnearyou
CATEGORIES:
DESCRIPTION:Every Sunday\, apart from the 4th Sunday\, at 11 a.m. for 1 ho
 ur\nA Eucharistic service with Sunday Club or access to an Activity table 
 for children during termtime. Please check link 'Pattern of Services' for 
 up to date information.
GEO:-0.857631;51.450189
LOCATION:Hurst: St Nicholas
URL:https://www.achurchnearyou.com/church/5339/service-and-events/events/9
 68159/
END:VEVENT
BEGIN:VEVENT
SUMMARY:Messy Church
DTSTART;TZID=Europe/London:20260927T110000
DTEND;TZID=Europe/London:20260927T120000
DTSTAMP:20260424T214944Z
UID:12102701790503200.0achurchnearyou
CATEGORIES:
DESCRIPTION:At Messy Church we celebrate God in our community by listening
  to stories\, making things\, singing\, praying\, sharing refreshments\, t
 alking......
GEO:-0.857631;51.450189
LOCATION:Hurst: St Nicholas
URL:https://www.achurchnearyou.com/church/5339/service-and-events/events/1
 210270/
END:VEVENT
END:VCALENDAR
