BEGIN:VCALENDAR
VERSION:2.0
PRODID:-//achurchnearyou.com//eventfeed//EN
CALSCALE:GREGORIAN
METHOD:PUBLISH
X-WR-TIMEZONE:UTC
BEGIN:VEVENT
SUMMARY:Candlelit Service of Nine Lessons and Carols
DTSTART:20251221T183000Z
DTEND:20251221T193000Z
DTSTAMP:20260421T185824Z
UID:12734942025-12-21 18:30:00+00:00achurchnearyou
CATEGORIES:
DESCRIPTION:A traditional service of Nine Lessons and Carols with items fr
 om the robed choir and congregational carols
GEO:-1.467002;52.747301
LOCATION:Ashby de la Zouch: St. Helen's\, Ashby de la Zouch
URL:https://www.achurchnearyou.com/church/5358/service-and-events/events/1
 273494/
END:VEVENT
END:VCALENDAR
