BEGIN:VCALENDAR
VERSION:2.0
PRODID:-//achurchnearyou.com//eventfeed//EN
CALSCALE:GREGORIAN
METHOD:PUBLISH
X-WR-TIMEZONE:UTC
BEGIN:VEVENT
SUMMARY:Easter Services
DTSTART:20250417T173000Z
DTEND:20250426T190000Z
DTSTAMP:20260425T024553Z
UID:11940472025-04-17 17:30:00+00:00achurchnearyou
CATEGORIES:
DESCRIPTION:Easter Services
GEO:-0.17737517196655395;51.465494735047635
LOCATION:St Peter's Battersea
URL:https://www.achurchnearyou.com/church/537/service-and-events/events/11
 94047/
END:VEVENT
END:VCALENDAR
