BEGIN:VCALENDAR
VERSION:2.0
PRODID:-//achurchnearyou.com//eventfeed//EN
CALSCALE:GREGORIAN
METHOD:PUBLISH
X-WR-TIMEZONE:UTC
BEGIN:VEVENT
SUMMARY:Christmas Season 2025 to 2026
DTSTART:20251207T000000Z
DTEND:20260104T010000Z
DTSTAMP:20260424T055456Z
UID:12422142025-12-07 00:00:00+00:00achurchnearyou
CATEGORIES:
DESCRIPTION:Sunday 7 Dec at 11:30am - Decorate the church and Christmas tr
 ee\nSunday 14 Dec at 10:30am - Sunday Funday and Christingle service\nSund
 ay 21 Dec at 10:30am - Morning Worship with Communion\nSunday 21 Dec at 6:
 30pm - Carols by Candle Light\nWednesday 24 Dec at 11.30pm - Christmas Eve
  Midnight Mass\nThursday 25 Dec 10.30am - Christmas Day Celebration\nWedne
 sday 31 Dec 10:30pm - 2026 Watchnight\nSunday 4 Jan at 10:30am - Epiphany 
 Sunday
GEO:-0.17737517196655395;51.465494735047635
LOCATION:St Peter's Battersea
URL:https://www.achurchnearyou.com/church/537/service-and-events/events/12
 42214/
END:VEVENT
END:VCALENDAR
