BEGIN:VCALENDAR
VERSION:2.0
PRODID:-//achurchnearyou.com//eventfeed//EN
CALSCALE:GREGORIAN
METHOD:PUBLISH
X-WR-TIMEZONE:UTC
BEGIN:VEVENT
SUMMARY:Benefice Team Service on Sunday 30th August 2026
DTSTART:20260830T093000Z
DTEND:20260830T103000Z
DTSTAMP:20260422T121305Z
UID:13142692026-08-30 09:30:00+00:00achurchnearyou
CATEGORIES:
DESCRIPTION:Benefice Team Service for Cosby\, Narborough and Whetstone on 
 Sunday 30th August 2026 at 10.30am\n\nService will take place at St Michae
 l and All Angels\, Cosby
LOCATION:Cosby: St Michael & All Angels
URL:https://www.achurchnearyou.com/church/5383/service-and-events/events/1
 314269/
END:VEVENT
END:VCALENDAR
