BEGIN:VCALENDAR
VERSION:2.0
PRODID:-//achurchnearyou.com//eventfeed//EN
CALSCALE:GREGORIAN
METHOD:PUBLISH
X-WR-TIMEZONE:UTC
BEGIN:VEVENT
SUMMARY:Good Friday reflection
DTSTART:20260403T130000Z
DTEND:20260403T140000Z
DTSTAMP:20260420T153449Z
UID:13100042026-04-03 13:00:00+00:00achurchnearyou
CATEGORIES:
DESCRIPTION:On this solemn day we remember Christ's final night and day\, 
 from the agony in the Garden of Gethsemane\, the betrayals and trials to h
 is death on the cross. As we gather today\, for led prayers and private re
 flection\, the church is arranged for people to walk around the various sc
 enes of the Passion story.  There will be words\, objects and images to he
 lp us remember and appreciate the wonderful sacrifice of Jesus Christ. Eve
 ryone is welcome to join us.
LOCATION:St George's Nine Elms
URL:https://www.achurchnearyou.com/church/539/service-and-events/events/13
 10004/
END:VEVENT
END:VCALENDAR
