BEGIN:VCALENDAR
VERSION:2.0
PRODID:-//achurchnearyou.com//eventfeed//EN
CALSCALE:GREGORIAN
METHOD:PUBLISH
X-WR-TIMEZONE:UTC
BEGIN:VEVENT
SUMMARY:Holy Communion
DTSTART:20251203T100000Z
DTEND:20251203T110000Z
DTSTAMP:20260424T071055Z
UID:12457922025-12-03 10:00:00+00:00achurchnearyou
CATEGORIES:
DESCRIPTION:Holy Communion at St Mary's Church\n1st Wednesday of Advent
GEO:1.251295;52.648836
LOCATION:Hellesdon: St Mary
URL:https://www.achurchnearyou.com/church/5402/service-and-events/events/1
 245792/
END:VEVENT
END:VCALENDAR
