BEGIN:VCALENDAR
VERSION:2.0
PRODID:-//achurchnearyou.com//eventfeed//EN
CALSCALE:GREGORIAN
METHOD:PUBLISH
X-WR-TIMEZONE:UTC
BEGIN:VEVENT
SUMMARY:Crib and Christingle Service
DTSTART:20251224T160000Z
DTEND:20251224T170000Z
DTSTAMP:20260424T083408Z
UID:12458032025-12-24 16:00:00+00:00achurchnearyou
CATEGORIES:
DESCRIPTION:Crib and Christingle Service at St Mary's Church
GEO:1.251295;52.648836
LOCATION:Hellesdon: St Mary
URL:https://www.achurchnearyou.com/church/5402/service-and-events/events/1
 245803/
END:VEVENT
END:VCALENDAR
