BEGIN:VCALENDAR
VERSION:2.0
PRODID:-//achurchnearyou.com//eventfeed//EN
CALSCALE:GREGORIAN
METHOD:PUBLISH
X-WR-TIMEZONE:UTC
BEGIN:VEVENT
SUMMARY:Palm Sunday
DTSTART:20250413T160000Z
DTEND:20250413T173000Z
DTSTAMP:20260424T215431Z
UID:11808532025-04-13 16:00:00+00:00achurchnearyou
CATEGORIES:
DESCRIPTION:An evening of worship\, teaching and prayer ministry.
GEO:-0.170292;51.460489
LOCATION:Battersea Rise\, St Mark
URL:https://smbr.church/easter
END:VEVENT
END:VCALENDAR
