BEGIN:VCALENDAR
VERSION:2.0
PRODID:-//achurchnearyou.com//eventfeed//EN
CALSCALE:GREGORIAN
METHOD:PUBLISH
X-WR-TIMEZONE:UTC
BEGIN:VEVENT
SUMMARY:Christingle Service
DTSTART:20251207T103000Z
DTEND:20251207T120000Z
DTSTAMP:20260424T042459Z
UID:12525742025-12-07 10:30:00+00:00achurchnearyou
CATEGORIES:
DESCRIPTION:Join us for our Christingle service\, including performances f
 rom Dolphin School Choir. Our Breakfast Bar will be open from 10am\, and t
 here will also be festive refreshments for kids and adults to enjoy after 
 the service.
GEO:-0.170292;51.460489
LOCATION:Battersea Rise\, St Mark
URL:https://www.smbr.church/christmas
END:VEVENT
END:VCALENDAR
