BEGIN:VCALENDAR
VERSION:2.0
PRODID:-//achurchnearyou.com//eventfeed//EN
CALSCALE:GREGORIAN
METHOD:PUBLISH
X-WR-TIMEZONE:UTC
BEGIN:VEVENT
SUMMARY:Benefice Eucharist @ West Runton
DTSTART;TZID=Europe/London:20251228T103000
DTEND;TZID=Europe/London:20251228T113000
DTSTAMP:20260420T043415Z
UID:10132962025-12-28 10:30:00+00:00achurchnearyou
CATEGORIES:
DESCRIPTION:Benefice Eucharist for the whole Quintet Benefice
GEO:1.24204;52.938568
LOCATION:Holy Trinity Church - West Runton
URL:https://www.achurchnearyou.com/church/5439/service-and-events/events/1
 013296/
END:VEVENT
BEGIN:VEVENT
SUMMARY:Benefice Eucharist @ West Runton
DTSTART;TZID=Europe/London:20261227T103000
DTEND;TZID=Europe/London:20261227T113000
DTSTAMP:20260420T043415Z
UID:10132962026-12-27 10:30:00+00:00achurchnearyou
CATEGORIES:
DESCRIPTION:Benefice Eucharist for the whole Quintet Benefice
GEO:1.24204;52.938568
LOCATION:Holy Trinity Church - West Runton
URL:https://www.achurchnearyou.com/church/5439/service-and-events/events/1
 013296/
END:VEVENT
BEGIN:VEVENT
SUMMARY:Benefice Eucharist @ West Runton
DTSTART;TZID=Europe/London:20270829T103000
DTEND;TZID=Europe/London:20270829T113000
DTSTAMP:20260420T043415Z
UID:10132962027-08-29 10:30:00+01:00achurchnearyou
CATEGORIES:
DESCRIPTION:Benefice Eucharist for the whole Quintet Benefice
GEO:1.24204;52.938568
LOCATION:Holy Trinity Church - West Runton
URL:https://www.achurchnearyou.com/church/5439/service-and-events/events/1
 013296/
END:VEVENT
BEGIN:VEVENT
SUMMARY:Benefice Eucharist @ West Runton
DTSTART;TZID=Europe/London:20280730T103000
DTEND;TZID=Europe/London:20280730T113000
DTSTAMP:20260420T043415Z
UID:10132962028-07-30 10:30:00+01:00achurchnearyou
CATEGORIES:
DESCRIPTION:Benefice Eucharist for the whole Quintet Benefice
GEO:1.24204;52.938568
LOCATION:Holy Trinity Church - West Runton
URL:https://www.achurchnearyou.com/church/5439/service-and-events/events/1
 013296/
END:VEVENT
BEGIN:VEVENT
SUMMARY:Benefice Eucharist @ West Runton
DTSTART;TZID=Europe/London:20281231T103000
DTEND;TZID=Europe/London:20281231T113000
DTSTAMP:20260420T043415Z
UID:10132962028-12-31 10:30:00+00:00achurchnearyou
CATEGORIES:
DESCRIPTION:Benefice Eucharist for the whole Quintet Benefice
GEO:1.24204;52.938568
LOCATION:Holy Trinity Church - West Runton
URL:https://www.achurchnearyou.com/church/5439/service-and-events/events/1
 013296/
END:VEVENT
BEGIN:VEVENT
SUMMARY:Benefice Eucharist @ West Runton
DTSTART;TZID=Europe/London:20291230T103000
DTEND;TZID=Europe/London:20291230T113000
DTSTAMP:20260420T043415Z
UID:10132962029-12-30 10:30:00+00:00achurchnearyou
CATEGORIES:
DESCRIPTION:Benefice Eucharist for the whole Quintet Benefice
GEO:1.24204;52.938568
LOCATION:Holy Trinity Church - West Runton
URL:https://www.achurchnearyou.com/church/5439/service-and-events/events/1
 013296/
END:VEVENT
BEGIN:VEVENT
SUMMARY:Benefice Eucharist @ West Runton
DTSTART;TZID=Europe/London:20300630T103000
DTEND;TZID=Europe/London:20300630T113000
DTSTAMP:20260420T043415Z
UID:10132962030-06-30 10:30:00+01:00achurchnearyou
CATEGORIES:
DESCRIPTION:Benefice Eucharist for the whole Quintet Benefice
GEO:1.24204;52.938568
LOCATION:Holy Trinity Church - West Runton
URL:https://www.achurchnearyou.com/church/5439/service-and-events/events/1
 013296/
END:VEVENT
END:VCALENDAR
