BEGIN:VCALENDAR
VERSION:2.0
PRODID:-//achurchnearyou.com//eventfeed//EN
CALSCALE:GREGORIAN
METHOD:PUBLISH
X-WR-TIMEZONE:UTC
BEGIN:VEVENT
SUMMARY:The Gospel according to Jazz
DTSTART:20250921T150000Z
DTEND:20250921T163000Z
DTSTAMP:20260421T124809Z
UID:12233332025-09-21 15:00:00+00:00achurchnearyou
CATEGORIES:
DESCRIPTION:A Sunday event with a difference!
LOCATION:Attlebridge St Andrew
URL:https://www.achurchnearyou.com/church/5441/service-and-events/events/1
 223333/
END:VEVENT
END:VCALENDAR
