BEGIN:VCALENDAR
VERSION:2.0
PRODID:-//achurchnearyou.com//eventfeed//EN
CALSCALE:GREGORIAN
METHOD:PUBLISH
X-WR-TIMEZONE:UTC
BEGIN:VEVENT
SUMMARY:Lent Group - Weston Longville
DTSTART;TZID=Europe/London:20260304T150000
DTEND;TZID=Europe/London:20260304T160000
DTSTAMP:20260421T031142Z
UID:13016882026-03-04 15:00:00+00:00achurchnearyou
CATEGORIES:
DESCRIPTION:Join us this Lent for a relaxed and welcoming small group at P
 eter & Margaret Halls home\, Weston Longville. \nWednesdays at 3.00pm\nBeg
 inning 4th March (four weeks)\n\nWe'll be exploring together J. John's boo
 k Walking with God\, with time for discussion\, reflection and prayer.\n\n
 Do come and join us - everyone is very welcome!
LOCATION:Peter & Margaret Hall's
URL:https://www.achurchnearyou.com/church/5441/service-and-events/events/1
 301688/
END:VEVENT
BEGIN:VEVENT
SUMMARY:Lent Group - Weston Longville
DTSTART;TZID=Europe/London:20260311T150000
DTEND;TZID=Europe/London:20260311T160000
DTSTAMP:20260421T031142Z
UID:13016882026-03-11 15:00:00+00:00achurchnearyou
CATEGORIES:
DESCRIPTION:Join us this Lent for a relaxed and welcoming small group at P
 eter & Margaret Halls home\, Weston Longville. \nWednesdays at 3.00pm\nBeg
 inning 4th March (four weeks)\n\nWe'll be exploring together J. John's boo
 k Walking with God\, with time for discussion\, reflection and prayer.\n\n
 Do come and join us - everyone is very welcome!
LOCATION:Peter & Margaret Hall's
URL:https://www.achurchnearyou.com/church/5441/service-and-events/events/1
 301688/
END:VEVENT
BEGIN:VEVENT
SUMMARY:Lent Group - Weston Longville
DTSTART;TZID=Europe/London:20260318T150000
DTEND;TZID=Europe/London:20260318T160000
DTSTAMP:20260421T031142Z
UID:13016882026-03-18 15:00:00+00:00achurchnearyou
CATEGORIES:
DESCRIPTION:Join us this Lent for a relaxed and welcoming small group at P
 eter & Margaret Halls home\, Weston Longville. \nWednesdays at 3.00pm\nBeg
 inning 4th March (four weeks)\n\nWe'll be exploring together J. John's boo
 k Walking with God\, with time for discussion\, reflection and prayer.\n\n
 Do come and join us - everyone is very welcome!
LOCATION:Peter & Margaret Hall's
URL:https://www.achurchnearyou.com/church/5441/service-and-events/events/1
 301688/
END:VEVENT
BEGIN:VEVENT
SUMMARY:Lent Group - Weston Longville
DTSTART;TZID=Europe/London:20260325T150000
DTEND;TZID=Europe/London:20260325T160000
DTSTAMP:20260421T031142Z
UID:13016882026-03-25 15:00:00+00:00achurchnearyou
CATEGORIES:
DESCRIPTION:Join us this Lent for a relaxed and welcoming small group at P
 eter & Margaret Halls home\, Weston Longville. \nWednesdays at 3.00pm\nBeg
 inning 4th March (four weeks)\n\nWe'll be exploring together J. John's boo
 k Walking with God\, with time for discussion\, reflection and prayer.\n\n
 Do come and join us - everyone is very welcome!
LOCATION:Peter & Margaret Hall's
URL:https://www.achurchnearyou.com/church/5441/service-and-events/events/1
 301688/
END:VEVENT
END:VCALENDAR
