BEGIN:VCALENDAR
VERSION:2.0
PRODID:-//achurchnearyou.com//eventfeed//EN
CALSCALE:GREGORIAN
METHOD:PUBLISH
X-WR-TIMEZONE:UTC
BEGIN:VEVENT
SUMMARY:Maundy Thursday  - Passover Supper
DTSTART;TZID=Europe/London:20260402T180000
DTEND;TZID=Europe/London:20260402T190000
DTSTAMP:20260420T230312Z
UID:13017101775149200.0achurchnearyou
CATEGORIES:
DESCRIPTION:Join us for a special Passover Supper as we reflect together o
 n the events of the Last Supper and the love of Christ.\n\nAll are very we
 lcome.\n\nParking available by kind permission of Luke Hawes.
GEO:1.143394;52.724974
LOCATION:Alderford St John the Baptist
URL:https://www.achurchnearyou.com/church/5441/service-and-events/events/1
 301710/
END:VEVENT
BEGIN:VEVENT
SUMMARY:Maundy Thursday  - Passover Supper
DTSTART;TZID=Europe/London:20260402T180000
DTEND;TZID=Europe/London:20260402T190000
DTSTAMP:20260420T230312Z
UID:13017121775149200.0achurchnearyou
CATEGORIES:
DESCRIPTION:Join us for a special Passover Supper as we reflect together o
 n the events of the Last Supper and the love of Christ.\n\nAll are very we
 lcome.\n\nParking available by kind permission of Luke Hawes.
LOCATION:Alderford St John the Baptist
URL:https://www.achurchnearyou.com/church/5441/service-and-events/events/1
 301712/
END:VEVENT
BEGIN:VEVENT
SUMMARY:Good Friday - Walk of Witness
DTSTART;TZID=Europe/London:20260403T123000
DTEND;TZID=Europe/London:20260403T153000
DTSTAMP:20260420T230312Z
UID:13017411775215800.0achurchnearyou
CATEGORIES:
DESCRIPTION:Join us as we follow the cross from St Margaret's\, Swanningto
 n to St Andrew's\, Attlebridge\, via Alderford.\n\nWalk begins at 12.30pm\
 n\nRefreshments will be available at Attlebridge\, followed by a short ser
 vice of reflection.\n\nAll are very welcome.\nParking available at Attlebr
 idge.
GEO:1.143394;52.724974
LOCATION:Alderford St John the Baptist
URL:https://www.achurchnearyou.com/church/5441/service-and-events/events/1
 301741/
END:VEVENT
BEGIN:VEVENT
SUMMARY:Family Worship and Holy Communion Services at Attlebridge
DTSTART;TZID=Europe/London:20260419T103000
DTEND;TZID=Europe/London:20260419T113000
DTSTAMP:20260420T230312Z
UID:11643301776591000.0achurchnearyou
CATEGORIES:
DESCRIPTION:Family Worship Service or Holy Communion\n\nOccurring\nEvery T
 hird Sunday at 10:30 a.m. for 1 hour\nVenue\nAttlebridge St Andrew\nAddres
 s\nOld Fakenham Road Attlebridge Norwich\, NR9\, United Kingdom\nOur Famil
 y Worship Services offer a refreshing and uplifting experience for all age
 s\, designed to bring the whole family together in a spirit of unity and j
 oy.\nThese special services\, held occasionally throughout the year\, feat
 ure a thoughtfully crafted theme\, filled with inspiring hymns\, uplifting
  songs\, and heartfelt prayers.\nAfterward\, we invite you to stay and con
 nect with others over delicious refreshments\, fostering a warm sense of c
 ommunity.\nWhether you're joining us for the first time or are a regular\,
  these services provide a wonderful opportunity for spiritual growth and f
 ellowship.\nCome and be part of something truly special!\n\nRoom for the w
 hole family!\n\nAlways good to be together!
LOCATION:Attlebridge St Andrews Church
URL:https://www.achurchnearyou.com/church/5441/service-and-events/events/1
 164330/
END:VEVENT
BEGIN:VEVENT
SUMMARY:Family Worship and Holy Communion Services at Attlebridge
DTSTART;TZID=Europe/London:20260517T103000
DTEND;TZID=Europe/London:20260517T113000
DTSTAMP:20260420T230312Z
UID:11643301779010200.0achurchnearyou
CATEGORIES:
DESCRIPTION:Family Worship Service or Holy Communion\n\nOccurring\nEvery T
 hird Sunday at 10:30 a.m. for 1 hour\nVenue\nAttlebridge St Andrew\nAddres
 s\nOld Fakenham Road Attlebridge Norwich\, NR9\, United Kingdom\nOur Famil
 y Worship Services offer a refreshing and uplifting experience for all age
 s\, designed to bring the whole family together in a spirit of unity and j
 oy.\nThese special services\, held occasionally throughout the year\, feat
 ure a thoughtfully crafted theme\, filled with inspiring hymns\, uplifting
  songs\, and heartfelt prayers.\nAfterward\, we invite you to stay and con
 nect with others over delicious refreshments\, fostering a warm sense of c
 ommunity.\nWhether you're joining us for the first time or are a regular\,
  these services provide a wonderful opportunity for spiritual growth and f
 ellowship.\nCome and be part of something truly special!\n\nRoom for the w
 hole family!\n\nAlways good to be together!
LOCATION:Attlebridge St Andrews Church
URL:https://www.achurchnearyou.com/church/5441/service-and-events/events/1
 164330/
END:VEVENT
BEGIN:VEVENT
SUMMARY:Family Worship and Holy Communion Services at Attlebridge
DTSTART;TZID=Europe/London:20260621T103000
DTEND;TZID=Europe/London:20260621T113000
DTSTAMP:20260420T230312Z
UID:11643301782034200.0achurchnearyou
CATEGORIES:
DESCRIPTION:Family Worship Service or Holy Communion\n\nOccurring\nEvery T
 hird Sunday at 10:30 a.m. for 1 hour\nVenue\nAttlebridge St Andrew\nAddres
 s\nOld Fakenham Road Attlebridge Norwich\, NR9\, United Kingdom\nOur Famil
 y Worship Services offer a refreshing and uplifting experience for all age
 s\, designed to bring the whole family together in a spirit of unity and j
 oy.\nThese special services\, held occasionally throughout the year\, feat
 ure a thoughtfully crafted theme\, filled with inspiring hymns\, uplifting
  songs\, and heartfelt prayers.\nAfterward\, we invite you to stay and con
 nect with others over delicious refreshments\, fostering a warm sense of c
 ommunity.\nWhether you're joining us for the first time or are a regular\,
  these services provide a wonderful opportunity for spiritual growth and f
 ellowship.\nCome and be part of something truly special!\n\nRoom for the w
 hole family!\n\nAlways good to be together!
LOCATION:Attlebridge St Andrews Church
URL:https://www.achurchnearyou.com/church/5441/service-and-events/events/1
 164330/
END:VEVENT
BEGIN:VEVENT
SUMMARY:Family Worship and Holy Communion Services at Attlebridge
DTSTART;TZID=Europe/London:20260719T103000
DTEND;TZID=Europe/London:20260719T113000
DTSTAMP:20260420T230312Z
UID:11643301784453400.0achurchnearyou
CATEGORIES:
DESCRIPTION:Family Worship Service or Holy Communion\n\nOccurring\nEvery T
 hird Sunday at 10:30 a.m. for 1 hour\nVenue\nAttlebridge St Andrew\nAddres
 s\nOld Fakenham Road Attlebridge Norwich\, NR9\, United Kingdom\nOur Famil
 y Worship Services offer a refreshing and uplifting experience for all age
 s\, designed to bring the whole family together in a spirit of unity and j
 oy.\nThese special services\, held occasionally throughout the year\, feat
 ure a thoughtfully crafted theme\, filled with inspiring hymns\, uplifting
  songs\, and heartfelt prayers.\nAfterward\, we invite you to stay and con
 nect with others over delicious refreshments\, fostering a warm sense of c
 ommunity.\nWhether you're joining us for the first time or are a regular\,
  these services provide a wonderful opportunity for spiritual growth and f
 ellowship.\nCome and be part of something truly special!\n\nRoom for the w
 hole family!\n\nAlways good to be together!
LOCATION:Attlebridge St Andrews Church
URL:https://www.achurchnearyou.com/church/5441/service-and-events/events/1
 164330/
END:VEVENT
BEGIN:VEVENT
SUMMARY:Family Worship and Holy Communion Services at Attlebridge
DTSTART;TZID=Europe/London:20260816T103000
DTEND;TZID=Europe/London:20260816T113000
DTSTAMP:20260420T230312Z
UID:11643301786872600.0achurchnearyou
CATEGORIES:
DESCRIPTION:Family Worship Service or Holy Communion\n\nOccurring\nEvery T
 hird Sunday at 10:30 a.m. for 1 hour\nVenue\nAttlebridge St Andrew\nAddres
 s\nOld Fakenham Road Attlebridge Norwich\, NR9\, United Kingdom\nOur Famil
 y Worship Services offer a refreshing and uplifting experience for all age
 s\, designed to bring the whole family together in a spirit of unity and j
 oy.\nThese special services\, held occasionally throughout the year\, feat
 ure a thoughtfully crafted theme\, filled with inspiring hymns\, uplifting
  songs\, and heartfelt prayers.\nAfterward\, we invite you to stay and con
 nect with others over delicious refreshments\, fostering a warm sense of c
 ommunity.\nWhether you're joining us for the first time or are a regular\,
  these services provide a wonderful opportunity for spiritual growth and f
 ellowship.\nCome and be part of something truly special!\n\nRoom for the w
 hole family!\n\nAlways good to be together!
LOCATION:Attlebridge St Andrews Church
URL:https://www.achurchnearyou.com/church/5441/service-and-events/events/1
 164330/
END:VEVENT
BEGIN:VEVENT
SUMMARY:Family Worship and Holy Communion Services at Attlebridge
DTSTART;TZID=Europe/London:20260920T103000
DTEND;TZID=Europe/London:20260920T113000
DTSTAMP:20260420T230312Z
UID:11643301789896600.0achurchnearyou
CATEGORIES:
DESCRIPTION:Family Worship Service or Holy Communion\n\nOccurring\nEvery T
 hird Sunday at 10:30 a.m. for 1 hour\nVenue\nAttlebridge St Andrew\nAddres
 s\nOld Fakenham Road Attlebridge Norwich\, NR9\, United Kingdom\nOur Famil
 y Worship Services offer a refreshing and uplifting experience for all age
 s\, designed to bring the whole family together in a spirit of unity and j
 oy.\nThese special services\, held occasionally throughout the year\, feat
 ure a thoughtfully crafted theme\, filled with inspiring hymns\, uplifting
  songs\, and heartfelt prayers.\nAfterward\, we invite you to stay and con
 nect with others over delicious refreshments\, fostering a warm sense of c
 ommunity.\nWhether you're joining us for the first time or are a regular\,
  these services provide a wonderful opportunity for spiritual growth and f
 ellowship.\nCome and be part of something truly special!\n\nRoom for the w
 hole family!\n\nAlways good to be together!
LOCATION:Attlebridge St Andrews Church
URL:https://www.achurchnearyou.com/church/5441/service-and-events/events/1
 164330/
END:VEVENT
END:VCALENDAR
