BEGIN:VCALENDAR
VERSION:2.0
PRODID:-//achurchnearyou.com//eventfeed//EN
CALSCALE:GREGORIAN
METHOD:PUBLISH
X-WR-TIMEZONE:UTC
BEGIN:VEVENT
SUMMARY:Stations of the Cross
DTSTART;TZID=Europe/London:20250312T200000
DTEND;TZID=Europe/London:20250312T204500
DTSTAMP:20260421T193801Z
UID:11673122025-03-12 20:00:00+00:00achurchnearyou
CATEGORIES:
DESCRIPTION:A traditional meditation on the Way of the Cross\, led by one 
 of our ministry team.
GEO:-0.193195;51.372626
LOCATION:All Saints\, Benhilton (Sutton\, Surrey\, SM1 3DA)
URL:https://www.achurchnearyou.com/church/546/service-and-events/events/11
 67312/
END:VEVENT
BEGIN:VEVENT
SUMMARY:Stations of the Cross
DTSTART;TZID=Europe/London:20250319T200000
DTEND;TZID=Europe/London:20250319T204500
DTSTAMP:20260421T193801Z
UID:11673122025-03-19 20:00:00+00:00achurchnearyou
CATEGORIES:
DESCRIPTION:A traditional meditation on the Way of the Cross\, led by one 
 of our ministry team.
GEO:-0.193195;51.372626
LOCATION:All Saints\, Benhilton (Sutton\, Surrey\, SM1 3DA)
URL:https://www.achurchnearyou.com/church/546/service-and-events/events/11
 67312/
END:VEVENT
BEGIN:VEVENT
SUMMARY:Stations of the Cross
DTSTART;TZID=Europe/London:20250326T200000
DTEND;TZID=Europe/London:20250326T204500
DTSTAMP:20260421T193801Z
UID:11673122025-03-26 20:00:00+00:00achurchnearyou
CATEGORIES:
DESCRIPTION:A traditional meditation on the Way of the Cross\, led by one 
 of our ministry team.
GEO:-0.193195;51.372626
LOCATION:All Saints\, Benhilton (Sutton\, Surrey\, SM1 3DA)
URL:https://www.achurchnearyou.com/church/546/service-and-events/events/11
 67312/
END:VEVENT
BEGIN:VEVENT
SUMMARY:Stations of the Cross
DTSTART;TZID=Europe/London:20250402T200000
DTEND;TZID=Europe/London:20250402T204500
DTSTAMP:20260421T193801Z
UID:11673122025-04-02 20:00:00+01:00achurchnearyou
CATEGORIES:
DESCRIPTION:A traditional meditation on the Way of the Cross\, led by one 
 of our ministry team.
GEO:-0.193195;51.372626
LOCATION:All Saints\, Benhilton (Sutton\, Surrey\, SM1 3DA)
URL:https://www.achurchnearyou.com/church/546/service-and-events/events/11
 67312/
END:VEVENT
BEGIN:VEVENT
SUMMARY:Stations of the Cross
DTSTART;TZID=Europe/London:20250409T200000
DTEND;TZID=Europe/London:20250409T204500
DTSTAMP:20260421T193801Z
UID:11673122025-04-09 20:00:00+01:00achurchnearyou
CATEGORIES:
DESCRIPTION:A traditional meditation on the Way of the Cross\, led by one 
 of our ministry team.
GEO:-0.193195;51.372626
LOCATION:All Saints\, Benhilton (Sutton\, Surrey\, SM1 3DA)
URL:https://www.achurchnearyou.com/church/546/service-and-events/events/11
 67312/
END:VEVENT
BEGIN:VEVENT
SUMMARY:Stations of the Cross
DTSTART;TZID=Europe/London:20250416T200000
DTEND;TZID=Europe/London:20250416T204500
DTSTAMP:20260421T193801Z
UID:11673122025-04-16 20:00:00+01:00achurchnearyou
CATEGORIES:
DESCRIPTION:A traditional meditation on the Way of the Cross\, led by one 
 of our ministry team.
GEO:-0.193195;51.372626
LOCATION:All Saints\, Benhilton (Sutton\, Surrey\, SM1 3DA)
URL:https://www.achurchnearyou.com/church/546/service-and-events/events/11
 67312/
END:VEVENT
END:VCALENDAR
