BEGIN:VCALENDAR
VERSION:2.0
PRODID:-//achurchnearyou.com//eventfeed//EN
CALSCALE:GREGORIAN
METHOD:PUBLISH
X-WR-TIMEZONE:UTC
BEGIN:VEVENT
SUMMARY:Lent Course
DTSTART;TZID=Europe/London:20250311T190000
DTEND;TZID=Europe/London:20250311T200000
DTSTAMP:20260421T212236Z
UID:11673282025-03-11 19:00:00+00:00achurchnearyou
CATEGORIES:
DESCRIPTION:This year's Lent Course looks at the Nicene Creed\, in this 17
 00th year since it was set out.
GEO:-0.193195;51.372626
LOCATION:All Saints\, Benhilton (Sutton\, Surrey\, SM1 3DA)
URL:https://www.achurchnearyou.com/church/546/service-and-events/events/11
 67328/
END:VEVENT
BEGIN:VEVENT
SUMMARY:Lent Course
DTSTART;TZID=Europe/London:20250318T190000
DTEND;TZID=Europe/London:20250318T200000
DTSTAMP:20260421T212236Z
UID:11673282025-03-18 19:00:00+00:00achurchnearyou
CATEGORIES:
DESCRIPTION:This year's Lent Course looks at the Nicene Creed\, in this 17
 00th year since it was set out.
GEO:-0.193195;51.372626
LOCATION:All Saints\, Benhilton (Sutton\, Surrey\, SM1 3DA)
URL:https://www.achurchnearyou.com/church/546/service-and-events/events/11
 67328/
END:VEVENT
BEGIN:VEVENT
SUMMARY:Lent Course
DTSTART;TZID=Europe/London:20250325T190000
DTEND;TZID=Europe/London:20250325T200000
DTSTAMP:20260421T212236Z
UID:11673282025-03-25 19:00:00+00:00achurchnearyou
CATEGORIES:
DESCRIPTION:This year's Lent Course looks at the Nicene Creed\, in this 17
 00th year since it was set out.
GEO:-0.193195;51.372626
LOCATION:All Saints\, Benhilton (Sutton\, Surrey\, SM1 3DA)
URL:https://www.achurchnearyou.com/church/546/service-and-events/events/11
 67328/
END:VEVENT
BEGIN:VEVENT
SUMMARY:Lent Course
DTSTART;TZID=Europe/London:20250401T190000
DTEND;TZID=Europe/London:20250401T200000
DTSTAMP:20260421T212236Z
UID:11673282025-04-01 19:00:00+01:00achurchnearyou
CATEGORIES:
DESCRIPTION:This year's Lent Course looks at the Nicene Creed\, in this 17
 00th year since it was set out.
GEO:-0.193195;51.372626
LOCATION:All Saints\, Benhilton (Sutton\, Surrey\, SM1 3DA)
URL:https://www.achurchnearyou.com/church/546/service-and-events/events/11
 67328/
END:VEVENT
BEGIN:VEVENT
SUMMARY:Lent Course
DTSTART;TZID=Europe/London:20250408T190000
DTEND;TZID=Europe/London:20250408T200000
DTSTAMP:20260421T212236Z
UID:11673282025-04-08 19:00:00+01:00achurchnearyou
CATEGORIES:
DESCRIPTION:This year's Lent Course looks at the Nicene Creed\, in this 17
 00th year since it was set out.
GEO:-0.193195;51.372626
LOCATION:All Saints\, Benhilton (Sutton\, Surrey\, SM1 3DA)
URL:https://www.achurchnearyou.com/church/546/service-and-events/events/11
 67328/
END:VEVENT
BEGIN:VEVENT
SUMMARY:Lent Course
DTSTART;TZID=Europe/London:20250415T190000
DTEND;TZID=Europe/London:20250415T200000
DTSTAMP:20260421T212236Z
UID:11673282025-04-15 19:00:00+01:00achurchnearyou
CATEGORIES:
DESCRIPTION:This year's Lent Course looks at the Nicene Creed\, in this 17
 00th year since it was set out.
GEO:-0.193195;51.372626
LOCATION:All Saints\, Benhilton (Sutton\, Surrey\, SM1 3DA)
URL:https://www.achurchnearyou.com/church/546/service-and-events/events/11
 67328/
END:VEVENT
END:VCALENDAR
