BEGIN:VCALENDAR
VERSION:2.0
PRODID:-//achurchnearyou.com//eventfeed//EN
CALSCALE:GREGORIAN
METHOD:PUBLISH
X-WR-TIMEZONE:UTC
BEGIN:VEVENT
SUMMARY:Christmas Day Mass
DTSTART:20251225T093000Z
DTEND:20251225T110000Z
DTSTAMP:20260421T045359Z
UID:12500092025-12-25 09:30:00+00:00achurchnearyou
CATEGORIES:
DESCRIPTION:A traditional Mass for Christmas morning\, with carols\, and m
 usic from our choir.
GEO:-0.193195;51.372626
LOCATION:All Saints\, Benhilton (Sutton\, Surrey\, SM1 3DA)
URL:https://www.achurchnearyou.com/church/546/service-and-events/events/12
 50009/
END:VEVENT
END:VCALENDAR
