BEGIN:VCALENDAR
VERSION:2.0
PRODID:-//achurchnearyou.com//eventfeed//EN
CALSCALE:GREGORIAN
METHOD:PUBLISH
X-WR-TIMEZONE:UTC
BEGIN:VEVENT
SUMMARY:Low Mass for Christmas Morning
DTSTART:20251225T080000Z
DTEND:20251225T083000Z
DTSTAMP:20260421T045324Z
UID:12500112025-12-25 08:00:00+00:00achurchnearyou
CATEGORIES:
DESCRIPTION:A simple and short said Mass of the Dawn\, on Christmas Day. N
 o hymns\, no fuss.
GEO:-0.193195;51.372626
LOCATION:All Saints\, Benhilton (Sutton\, Surrey\, SM1 3DA)
URL:https://www.achurchnearyou.com/church/546/service-and-events/events/12
 50011/
END:VEVENT
END:VCALENDAR
