BEGIN:VCALENDAR
VERSION:2.0
PRODID:-//achurchnearyou.com//eventfeed//EN
CALSCALE:GREGORIAN
METHOD:PUBLISH
X-WR-TIMEZONE:UTC
BEGIN:VEVENT
SUMMARY:Christingle Service at Twycross
DTSTART:20241211T090000Z
DTEND:20241211T100000Z
DTSTAMP:20260421T135844Z
UID:11254402024-12-11 09:00:00+00:00achurchnearyou
CATEGORIES:
DESCRIPTION:9am Wednesday 11th December at St James\, Twycross
LOCATION:Twycross: St James
URL:https://www.achurchnearyou.com/church/5466/service-and-events/events/1
 125440/
END:VEVENT
END:VCALENDAR
