BEGIN:VCALENDAR
VERSION:2.0
PRODID:-//achurchnearyou.com//eventfeed//EN
CALSCALE:GREGORIAN
METHOD:PUBLISH
X-WR-TIMEZONE:UTC
BEGIN:VEVENT
SUMMARY:Evensong
DTSTART:20250704T180000Z
DTEND:20250704T193000Z
DTSTAMP:20260421T070220Z
UID:12066882025-07-04 18:00:00+00:00achurchnearyou
CATEGORIES:
DESCRIPTION:A peaceful service of prayer and contemplation\, with music fr
 om the English choral tradition.
GEO:-0.080742;51.498446
LOCATION:Bermondsey\, St Mary Magdalen
URL:https://www.achurchnearyou.com/church/550/service-and-events/events/12
 06688/
END:VEVENT
END:VCALENDAR
