BEGIN:VCALENDAR
VERSION:2.0
PRODID:-//achurchnearyou.com//eventfeed//EN
CALSCALE:GREGORIAN
METHOD:PUBLISH
X-WR-TIMEZONE:UTC
BEGIN:VEVENT
SUMMARY:Share Social
DTSTART;TZID=Europe/London:20260514T190000
DTEND;TZID=Europe/London:20260514T200000
DTSTAMP:20260425T034733Z
UID:9019842026-05-14 19:00:00+01:00achurchnearyou
CATEGORIES:
DESCRIPTION:Join us in St Michael's Hall for our monthly Share Social. On 
 the second Thursday of the month we meet together to share food\, fellowsh
 ip and moments from the past month that have made us say "wow!". All adult
 s (16+) are welcome to join us. If you would like more information please 
 contact the Church Warden.
GEO:1.112885;52.762421
LOCATION:Reepham: St Mary
URL:https://www.achurchnearyou.com/church/5504/service-and-events/events/9
 01984/
END:VEVENT
BEGIN:VEVENT
SUMMARY:Share Social
DTSTART;TZID=Europe/London:20260611T190000
DTEND;TZID=Europe/London:20260611T200000
DTSTAMP:20260425T034733Z
UID:9019842026-06-11 19:00:00+01:00achurchnearyou
CATEGORIES:
DESCRIPTION:Join us in St Michael's Hall for our monthly Share Social. On 
 the second Thursday of the month we meet together to share food\, fellowsh
 ip and moments from the past month that have made us say "wow!". All adult
 s (16+) are welcome to join us. If you would like more information please 
 contact the Church Warden.
GEO:1.112885;52.762421
LOCATION:Reepham: St Mary
URL:https://www.achurchnearyou.com/church/5504/service-and-events/events/9
 01984/
END:VEVENT
BEGIN:VEVENT
SUMMARY:Share Social
DTSTART;TZID=Europe/London:20260709T190000
DTEND;TZID=Europe/London:20260709T200000
DTSTAMP:20260425T034733Z
UID:9019842026-07-09 19:00:00+01:00achurchnearyou
CATEGORIES:
DESCRIPTION:Join us in St Michael's Hall for our monthly Share Social. On 
 the second Thursday of the month we meet together to share food\, fellowsh
 ip and moments from the past month that have made us say "wow!". All adult
 s (16+) are welcome to join us. If you would like more information please 
 contact the Church Warden.
GEO:1.112885;52.762421
LOCATION:Reepham: St Mary
URL:https://www.achurchnearyou.com/church/5504/service-and-events/events/9
 01984/
END:VEVENT
BEGIN:VEVENT
SUMMARY:Share Social
DTSTART;TZID=Europe/London:20260813T190000
DTEND;TZID=Europe/London:20260813T200000
DTSTAMP:20260425T034733Z
UID:9019842026-08-13 19:00:00+01:00achurchnearyou
CATEGORIES:
DESCRIPTION:Join us in St Michael's Hall for our monthly Share Social. On 
 the second Thursday of the month we meet together to share food\, fellowsh
 ip and moments from the past month that have made us say "wow!". All adult
 s (16+) are welcome to join us. If you would like more information please 
 contact the Church Warden.
GEO:1.112885;52.762421
LOCATION:Reepham: St Mary
URL:https://www.achurchnearyou.com/church/5504/service-and-events/events/9
 01984/
END:VEVENT
BEGIN:VEVENT
SUMMARY:Share Social
DTSTART;TZID=Europe/London:20260910T190000
DTEND;TZID=Europe/London:20260910T200000
DTSTAMP:20260425T034733Z
UID:9019842026-09-10 19:00:00+01:00achurchnearyou
CATEGORIES:
DESCRIPTION:Join us in St Michael's Hall for our monthly Share Social. On 
 the second Thursday of the month we meet together to share food\, fellowsh
 ip and moments from the past month that have made us say "wow!". All adult
 s (16+) are welcome to join us. If you would like more information please 
 contact the Church Warden.
GEO:1.112885;52.762421
LOCATION:Reepham: St Mary
URL:https://www.achurchnearyou.com/church/5504/service-and-events/events/9
 01984/
END:VEVENT
BEGIN:VEVENT
SUMMARY:Share Social
DTSTART;TZID=Europe/London:20261008T190000
DTEND;TZID=Europe/London:20261008T200000
DTSTAMP:20260425T034733Z
UID:9019842026-10-08 19:00:00+01:00achurchnearyou
CATEGORIES:
DESCRIPTION:Join us in St Michael's Hall for our monthly Share Social. On 
 the second Thursday of the month we meet together to share food\, fellowsh
 ip and moments from the past month that have made us say "wow!". All adult
 s (16+) are welcome to join us. If you would like more information please 
 contact the Church Warden.
GEO:1.112885;52.762421
LOCATION:Reepham: St Mary
URL:https://www.achurchnearyou.com/church/5504/service-and-events/events/9
 01984/
END:VEVENT
BEGIN:VEVENT
SUMMARY:Share Social
DTSTART;TZID=Europe/London:20261112T190000
DTEND;TZID=Europe/London:20261112T200000
DTSTAMP:20260425T034733Z
UID:9019842026-11-12 19:00:00+00:00achurchnearyou
CATEGORIES:
DESCRIPTION:Join us in St Michael's Hall for our monthly Share Social. On 
 the second Thursday of the month we meet together to share food\, fellowsh
 ip and moments from the past month that have made us say "wow!". All adult
 s (16+) are welcome to join us. If you would like more information please 
 contact the Church Warden.
GEO:1.112885;52.762421
LOCATION:Reepham: St Mary
URL:https://www.achurchnearyou.com/church/5504/service-and-events/events/9
 01984/
END:VEVENT
BEGIN:VEVENT
SUMMARY:Share Social
DTSTART;TZID=Europe/London:20261210T190000
DTEND;TZID=Europe/London:20261210T200000
DTSTAMP:20260425T034733Z
UID:9019842026-12-10 19:00:00+00:00achurchnearyou
CATEGORIES:
DESCRIPTION:Join us in St Michael's Hall for our monthly Share Social. On 
 the second Thursday of the month we meet together to share food\, fellowsh
 ip and moments from the past month that have made us say "wow!". All adult
 s (16+) are welcome to join us. If you would like more information please 
 contact the Church Warden.
GEO:1.112885;52.762421
LOCATION:Reepham: St Mary
URL:https://www.achurchnearyou.com/church/5504/service-and-events/events/9
 01984/
END:VEVENT
BEGIN:VEVENT
SUMMARY:Share Social
DTSTART;TZID=Europe/London:20270114T190000
DTEND;TZID=Europe/London:20270114T200000
DTSTAMP:20260425T034733Z
UID:9019842027-01-14 19:00:00+00:00achurchnearyou
CATEGORIES:
DESCRIPTION:Join us in St Michael's Hall for our monthly Share Social. On 
 the second Thursday of the month we meet together to share food\, fellowsh
 ip and moments from the past month that have made us say "wow!". All adult
 s (16+) are welcome to join us. If you would like more information please 
 contact the Church Warden.
GEO:1.112885;52.762421
LOCATION:Reepham: St Mary
URL:https://www.achurchnearyou.com/church/5504/service-and-events/events/9
 01984/
END:VEVENT
BEGIN:VEVENT
SUMMARY:Share Social
DTSTART;TZID=Europe/London:20270211T190000
DTEND;TZID=Europe/London:20270211T200000
DTSTAMP:20260425T034733Z
UID:9019842027-02-11 19:00:00+00:00achurchnearyou
CATEGORIES:
DESCRIPTION:Join us in St Michael's Hall for our monthly Share Social. On 
 the second Thursday of the month we meet together to share food\, fellowsh
 ip and moments from the past month that have made us say "wow!". All adult
 s (16+) are welcome to join us. If you would like more information please 
 contact the Church Warden.
GEO:1.112885;52.762421
LOCATION:Reepham: St Mary
URL:https://www.achurchnearyou.com/church/5504/service-and-events/events/9
 01984/
END:VEVENT
BEGIN:VEVENT
SUMMARY:Share Social
DTSTART;TZID=Europe/London:20270311T190000
DTEND;TZID=Europe/London:20270311T200000
DTSTAMP:20260425T034733Z
UID:9019842027-03-11 19:00:00+00:00achurchnearyou
CATEGORIES:
DESCRIPTION:Join us in St Michael's Hall for our monthly Share Social. On 
 the second Thursday of the month we meet together to share food\, fellowsh
 ip and moments from the past month that have made us say "wow!". All adult
 s (16+) are welcome to join us. If you would like more information please 
 contact the Church Warden.
GEO:1.112885;52.762421
LOCATION:Reepham: St Mary
URL:https://www.achurchnearyou.com/church/5504/service-and-events/events/9
 01984/
END:VEVENT
BEGIN:VEVENT
SUMMARY:Share Social
DTSTART;TZID=Europe/London:20270408T190000
DTEND;TZID=Europe/London:20270408T200000
DTSTAMP:20260425T034733Z
UID:9019842027-04-08 19:00:00+01:00achurchnearyou
CATEGORIES:
DESCRIPTION:Join us in St Michael's Hall for our monthly Share Social. On 
 the second Thursday of the month we meet together to share food\, fellowsh
 ip and moments from the past month that have made us say "wow!". All adult
 s (16+) are welcome to join us. If you would like more information please 
 contact the Church Warden.
GEO:1.112885;52.762421
LOCATION:Reepham: St Mary
URL:https://www.achurchnearyou.com/church/5504/service-and-events/events/9
 01984/
END:VEVENT
END:VCALENDAR
