BEGIN:VCALENDAR
VERSION:2.0
PRODID:-//achurchnearyou.com//eventfeed//EN
CALSCALE:GREGORIAN
METHOD:PUBLISH
X-WR-TIMEZONE:UTC
BEGIN:VEVENT
SUMMARY:Mass at 1900\, followed by the Watch
DTSTART:20250417T180000Z
DTEND:20250417T190000Z
DTSTAMP:20260425T192110Z
UID:11880532025-04-17 18:00:00+00:00achurchnearyou
CATEGORIES:
DESCRIPTION:Maundy Thursday
GEO:-0.982566;51.455164
LOCATION:Reading: Holy Trinity
URL:https://www.achurchnearyou.com/church/5507/service-and-events/events/1
 188053/
END:VEVENT
END:VCALENDAR
