BEGIN:VCALENDAR
VERSION:2.0
PRODID:-//achurchnearyou.com//eventfeed//EN
CALSCALE:GREGORIAN
METHOD:PUBLISH
X-WR-TIMEZONE:UTC
BEGIN:VEVENT
SUMMARY:Stations of the Cross
DTSTART:20250418T093000Z
DTEND:20250418T101500Z
DTSTAMP:20260425T192105Z
UID:11880562025-04-18 09:30:00+00:00achurchnearyou
CATEGORIES:
DESCRIPTION:Good Friday
GEO:-0.982566;51.455164
LOCATION:Reading: Holy Trinity
URL:https://www.achurchnearyou.com/church/5507/service-and-events/events/1
 188056/
END:VEVENT
END:VCALENDAR
