BEGIN:VCALENDAR
VERSION:2.0
PRODID:-//achurchnearyou.com//eventfeed//EN
CALSCALE:GREGORIAN
METHOD:PUBLISH
X-WR-TIMEZONE:UTC
BEGIN:VEVENT
SUMMARY:Christmas Eve: Midday Mass - The Vigil of the Nativity.
DTSTART:20251224T120000Z
DTEND:20251224T124500Z
DTSTAMP:20260425T030900Z
UID:12745142025-12-24 12:00:00+00:00achurchnearyou
CATEGORIES:
DESCRIPTION:Midday Mass: The Vigil of the Nativity. In the Western traditi
 on\, this isn't just an early Christmas celebration - it’s the solemn co
 nclusion of Advent. Join us as we journey through Matthew 1 and prepare fo
 r the Incarnation.
GEO:-0.982566;51.455164
LOCATION:Reading: Holy Trinity
URL:https://www.achurchnearyou.com/church/5507/service-and-events/events/1
 274514/
END:VEVENT
END:VCALENDAR
