BEGIN:VCALENDAR
VERSION:2.0
PRODID:-//achurchnearyou.com//eventfeed//EN
CALSCALE:GREGORIAN
METHOD:PUBLISH
X-WR-TIMEZONE:UTC
BEGIN:VEVENT
SUMMARY:Cafe Church
DTSTART:20251130T100000Z
DTEND:20251130T110000Z
DTSTAMP:20260423T223955Z
UID:12429702025-11-30 10:00:00+00:00achurchnearyou
CATEGORIES:
DESCRIPTION:Advent Sunday\n1st Sunday of Advent
GEO:1.269398;52.663536
LOCATION:Hellesdon: St Paul
URL:https://www.achurchnearyou.com/church/5518/service-and-events/events/1
 242970/
END:VEVENT
END:VCALENDAR
