BEGIN:VCALENDAR
VERSION:2.0
PRODID:-//achurchnearyou.com//eventfeed//EN
CALSCALE:GREGORIAN
METHOD:PUBLISH
X-WR-TIMEZONE:UTC
BEGIN:VEVENT
SUMMARY:Springwater Lodge service
DTSTART;TZID=Europe/London:20260422T140000
DTEND;TZID=Europe/London:20260422T150000
DTSTAMP:20260422T213657Z
UID:11999552026-04-22 14:00:00+01:00achurchnearyou
CATEGORIES:
DESCRIPTION:A service taken by St Wilfrid's Church @ Springwater Lodge car
 e home\nevery 4th Wednesday of the month at 2pm
GEO:-1.08073;53.036388
LOCATION:St Wilfrid's
URL:https://www.achurchnearyou.com/church/5525/service-and-events/events/1
 199955/
END:VEVENT
BEGIN:VEVENT
SUMMARY:Springwater Lodge service
DTSTART;TZID=Europe/London:20260527T140000
DTEND;TZID=Europe/London:20260527T150000
DTSTAMP:20260422T213657Z
UID:11999552026-05-27 14:00:00+01:00achurchnearyou
CATEGORIES:
DESCRIPTION:A service taken by St Wilfrid's Church @ Springwater Lodge car
 e home\nevery 4th Wednesday of the month at 2pm
GEO:-1.08073;53.036388
LOCATION:St Wilfrid's
URL:https://www.achurchnearyou.com/church/5525/service-and-events/events/1
 199955/
END:VEVENT
BEGIN:VEVENT
SUMMARY:Springwater Lodge service
DTSTART;TZID=Europe/London:20260624T140000
DTEND;TZID=Europe/London:20260624T150000
DTSTAMP:20260422T213657Z
UID:11999552026-06-24 14:00:00+01:00achurchnearyou
CATEGORIES:
DESCRIPTION:A service taken by St Wilfrid's Church @ Springwater Lodge car
 e home\nevery 4th Wednesday of the month at 2pm
GEO:-1.08073;53.036388
LOCATION:St Wilfrid's
URL:https://www.achurchnearyou.com/church/5525/service-and-events/events/1
 199955/
END:VEVENT
BEGIN:VEVENT
SUMMARY:Springwater Lodge service
DTSTART;TZID=Europe/London:20260722T140000
DTEND;TZID=Europe/London:20260722T150000
DTSTAMP:20260422T213657Z
UID:11999552026-07-22 14:00:00+01:00achurchnearyou
CATEGORIES:
DESCRIPTION:A service taken by St Wilfrid's Church @ Springwater Lodge car
 e home\nevery 4th Wednesday of the month at 2pm
GEO:-1.08073;53.036388
LOCATION:St Wilfrid's
URL:https://www.achurchnearyou.com/church/5525/service-and-events/events/1
 199955/
END:VEVENT
BEGIN:VEVENT
SUMMARY:Springwater Lodge service
DTSTART;TZID=Europe/London:20260826T140000
DTEND;TZID=Europe/London:20260826T150000
DTSTAMP:20260422T213657Z
UID:11999552026-08-26 14:00:00+01:00achurchnearyou
CATEGORIES:
DESCRIPTION:A service taken by St Wilfrid's Church @ Springwater Lodge car
 e home\nevery 4th Wednesday of the month at 2pm
GEO:-1.08073;53.036388
LOCATION:St Wilfrid's
URL:https://www.achurchnearyou.com/church/5525/service-and-events/events/1
 199955/
END:VEVENT
BEGIN:VEVENT
SUMMARY:Springwater Lodge service
DTSTART;TZID=Europe/London:20260923T140000
DTEND;TZID=Europe/London:20260923T150000
DTSTAMP:20260422T213657Z
UID:11999552026-09-23 14:00:00+01:00achurchnearyou
CATEGORIES:
DESCRIPTION:A service taken by St Wilfrid's Church @ Springwater Lodge car
 e home\nevery 4th Wednesday of the month at 2pm
GEO:-1.08073;53.036388
LOCATION:St Wilfrid's
URL:https://www.achurchnearyou.com/church/5525/service-and-events/events/1
 199955/
END:VEVENT
BEGIN:VEVENT
SUMMARY:Springwater Lodge service
DTSTART;TZID=Europe/London:20261028T140000
DTEND;TZID=Europe/London:20261028T150000
DTSTAMP:20260422T213657Z
UID:11999552026-10-28 14:00:00+00:00achurchnearyou
CATEGORIES:
DESCRIPTION:A service taken by St Wilfrid's Church @ Springwater Lodge car
 e home\nevery 4th Wednesday of the month at 2pm
GEO:-1.08073;53.036388
LOCATION:St Wilfrid's
URL:https://www.achurchnearyou.com/church/5525/service-and-events/events/1
 199955/
END:VEVENT
BEGIN:VEVENT
SUMMARY:Springwater Lodge service
DTSTART;TZID=Europe/London:20261125T140000
DTEND;TZID=Europe/London:20261125T150000
DTSTAMP:20260422T213657Z
UID:11999552026-11-25 14:00:00+00:00achurchnearyou
CATEGORIES:
DESCRIPTION:A service taken by St Wilfrid's Church @ Springwater Lodge car
 e home\nevery 4th Wednesday of the month at 2pm
GEO:-1.08073;53.036388
LOCATION:St Wilfrid's
URL:https://www.achurchnearyou.com/church/5525/service-and-events/events/1
 199955/
END:VEVENT
BEGIN:VEVENT
SUMMARY:Springwater Lodge service
DTSTART;TZID=Europe/London:20261223T140000
DTEND;TZID=Europe/London:20261223T150000
DTSTAMP:20260422T213657Z
UID:11999552026-12-23 14:00:00+00:00achurchnearyou
CATEGORIES:
DESCRIPTION:A service taken by St Wilfrid's Church @ Springwater Lodge car
 e home\nevery 4th Wednesday of the month at 2pm
GEO:-1.08073;53.036388
LOCATION:St Wilfrid's
URL:https://www.achurchnearyou.com/church/5525/service-and-events/events/1
 199955/
END:VEVENT
BEGIN:VEVENT
SUMMARY:Springwater Lodge service
DTSTART;TZID=Europe/London:20270127T140000
DTEND;TZID=Europe/London:20270127T150000
DTSTAMP:20260422T213657Z
UID:11999552027-01-27 14:00:00+00:00achurchnearyou
CATEGORIES:
DESCRIPTION:A service taken by St Wilfrid's Church @ Springwater Lodge car
 e home\nevery 4th Wednesday of the month at 2pm
GEO:-1.08073;53.036388
LOCATION:St Wilfrid's
URL:https://www.achurchnearyou.com/church/5525/service-and-events/events/1
 199955/
END:VEVENT
BEGIN:VEVENT
SUMMARY:Springwater Lodge service
DTSTART;TZID=Europe/London:20270224T140000
DTEND;TZID=Europe/London:20270224T150000
DTSTAMP:20260422T213657Z
UID:11999552027-02-24 14:00:00+00:00achurchnearyou
CATEGORIES:
DESCRIPTION:A service taken by St Wilfrid's Church @ Springwater Lodge car
 e home\nevery 4th Wednesday of the month at 2pm
GEO:-1.08073;53.036388
LOCATION:St Wilfrid's
URL:https://www.achurchnearyou.com/church/5525/service-and-events/events/1
 199955/
END:VEVENT
BEGIN:VEVENT
SUMMARY:Springwater Lodge service
DTSTART;TZID=Europe/London:20270324T140000
DTEND;TZID=Europe/London:20270324T150000
DTSTAMP:20260422T213657Z
UID:11999552027-03-24 14:00:00+00:00achurchnearyou
CATEGORIES:
DESCRIPTION:A service taken by St Wilfrid's Church @ Springwater Lodge car
 e home\nevery 4th Wednesday of the month at 2pm
GEO:-1.08073;53.036388
LOCATION:St Wilfrid's
URL:https://www.achurchnearyou.com/church/5525/service-and-events/events/1
 199955/
END:VEVENT
END:VCALENDAR
