BEGIN:VCALENDAR
VERSION:2.0
PRODID:-//achurchnearyou.com//eventfeed//EN
CALSCALE:GREGORIAN
METHOD:PUBLISH
X-WR-TIMEZONE:UTC
BEGIN:VEVENT
SUMMARY:Palm Sunday Holy Communion
DTSTART:20250413T083000Z
DTEND:20250413T093000Z
DTSTAMP:20260419T183602Z
UID:11795982025-04-13 08:30:00+00:00achurchnearyou
CATEGORIES:
DESCRIPTION:All are welcome. Palm crosses will be distributed as we begin 
 our Holy Week Services.
LOCATION:Hainford: All Saints
URL:https://www.achurchnearyou.com/church/5533/service-and-events/events/1
 179598/
END:VEVENT
END:VCALENDAR
