BEGIN:VCALENDAR
VERSION:2.0
PRODID:-//achurchnearyou.com//eventfeed//EN
CALSCALE:GREGORIAN
METHOD:PUBLISH
X-WR-TIMEZONE:UTC
BEGIN:VEVENT
SUMMARY:Holy Communion Service
DTSTART:20250416T090000Z
DTEND:20250416T094500Z
DTSTAMP:20260419T220556Z
UID:11808882025-04-16 09:00:00+00:00achurchnearyou
CATEGORIES:
DESCRIPTION:All welcome during this Holy Week
GEO:1.362992;52.727752
LOCATION:St.John the Baptist\, Coltishall
URL:https://www.achurchnearyou.com/church/5533/service-and-events/events/1
 180888/
END:VEVENT
END:VCALENDAR
