BEGIN:VCALENDAR
VERSION:2.0
PRODID:-//achurchnearyou.com//eventfeed//EN
CALSCALE:GREGORIAN
METHOD:PUBLISH
X-WR-TIMEZONE:UTC
BEGIN:VEVENT
SUMMARY:Service ZERO
DTSTART;TZID=Europe/London:20260412T140000
DTEND;TZID=Europe/London:20260412T151000
DTSTAMP:20260421T064904Z
UID:151351775998800.0achurchnearyou
CATEGORIES:
DESCRIPTION:Space for worship + teaching + ministry with kids work. We mee
 t for Service ZERO every second\, third\, forth and fifth Sunday of the mo
 nth.
GEO:-0.969368;51.456443
LOCATION:Saint Laurence\, Reading
URL:https://www.stlreading.org/visit
END:VEVENT
BEGIN:VEVENT
SUMMARY:Service ZERO
DTSTART;TZID=Europe/London:20260419T140000
DTEND;TZID=Europe/London:20260419T151000
DTSTAMP:20260421T064904Z
UID:151351776603600.0achurchnearyou
CATEGORIES:
DESCRIPTION:Space for worship + teaching + ministry with kids work. We mee
 t for Service ZERO every second\, third\, forth and fifth Sunday of the mo
 nth.
GEO:-0.969368;51.456443
LOCATION:Saint Laurence\, Reading
URL:https://www.stlreading.org/visit
END:VEVENT
BEGIN:VEVENT
SUMMARY:Service ZERO
DTSTART;TZID=Europe/London:20260426T140000
DTEND;TZID=Europe/London:20260426T151000
DTSTAMP:20260421T064904Z
UID:151351777208400.0achurchnearyou
CATEGORIES:
DESCRIPTION:Space for worship + teaching + ministry with kids work. We mee
 t for Service ZERO every second\, third\, forth and fifth Sunday of the mo
 nth.
GEO:-0.969368;51.456443
LOCATION:Saint Laurence\, Reading
URL:https://www.stlreading.org/visit
END:VEVENT
BEGIN:VEVENT
SUMMARY:Service ZERO
DTSTART;TZID=Europe/London:20260510T140000
DTEND;TZID=Europe/London:20260510T151000
DTSTAMP:20260421T064904Z
UID:151351778418000.0achurchnearyou
CATEGORIES:
DESCRIPTION:Space for worship + teaching + ministry with kids work. We mee
 t for Service ZERO every second\, third\, forth and fifth Sunday of the mo
 nth.
GEO:-0.969368;51.456443
LOCATION:Saint Laurence\, Reading
URL:https://www.stlreading.org/visit
END:VEVENT
BEGIN:VEVENT
SUMMARY:Service ZERO
DTSTART;TZID=Europe/London:20260517T140000
DTEND;TZID=Europe/London:20260517T151000
DTSTAMP:20260421T064904Z
UID:151351779022800.0achurchnearyou
CATEGORIES:
DESCRIPTION:Space for worship + teaching + ministry with kids work. We mee
 t for Service ZERO every second\, third\, forth and fifth Sunday of the mo
 nth.
GEO:-0.969368;51.456443
LOCATION:Saint Laurence\, Reading
URL:https://www.stlreading.org/visit
END:VEVENT
BEGIN:VEVENT
SUMMARY:Service ZERO
DTSTART;TZID=Europe/London:20260524T140000
DTEND;TZID=Europe/London:20260524T151000
DTSTAMP:20260421T064904Z
UID:151351779627600.0achurchnearyou
CATEGORIES:
DESCRIPTION:Space for worship + teaching + ministry with kids work. We mee
 t for Service ZERO every second\, third\, forth and fifth Sunday of the mo
 nth.
GEO:-0.969368;51.456443
LOCATION:Saint Laurence\, Reading
URL:https://www.stlreading.org/visit
END:VEVENT
BEGIN:VEVENT
SUMMARY:Service ZERO
DTSTART;TZID=Europe/London:20260531T140000
DTEND;TZID=Europe/London:20260531T151000
DTSTAMP:20260421T064904Z
UID:151351780232400.0achurchnearyou
CATEGORIES:
DESCRIPTION:Space for worship + teaching + ministry with kids work. We mee
 t for Service ZERO every second\, third\, forth and fifth Sunday of the mo
 nth.
GEO:-0.969368;51.456443
LOCATION:Saint Laurence\, Reading
URL:https://www.stlreading.org/visit
END:VEVENT
BEGIN:VEVENT
SUMMARY:Service ZERO
DTSTART;TZID=Europe/London:20260614T140000
DTEND;TZID=Europe/London:20260614T151000
DTSTAMP:20260421T064904Z
UID:151351781442000.0achurchnearyou
CATEGORIES:
DESCRIPTION:Space for worship + teaching + ministry with kids work. We mee
 t for Service ZERO every second\, third\, forth and fifth Sunday of the mo
 nth.
GEO:-0.969368;51.456443
LOCATION:Saint Laurence\, Reading
URL:https://www.stlreading.org/visit
END:VEVENT
BEGIN:VEVENT
SUMMARY:Service ZERO
DTSTART;TZID=Europe/London:20260621T140000
DTEND;TZID=Europe/London:20260621T151000
DTSTAMP:20260421T064904Z
UID:151351782046800.0achurchnearyou
CATEGORIES:
DESCRIPTION:Space for worship + teaching + ministry with kids work. We mee
 t for Service ZERO every second\, third\, forth and fifth Sunday of the mo
 nth.
GEO:-0.969368;51.456443
LOCATION:Saint Laurence\, Reading
URL:https://www.stlreading.org/visit
END:VEVENT
BEGIN:VEVENT
SUMMARY:Service ZERO
DTSTART;TZID=Europe/London:20260628T140000
DTEND;TZID=Europe/London:20260628T151000
DTSTAMP:20260421T064904Z
UID:151351782651600.0achurchnearyou
CATEGORIES:
DESCRIPTION:Space for worship + teaching + ministry with kids work. We mee
 t for Service ZERO every second\, third\, forth and fifth Sunday of the mo
 nth.
GEO:-0.969368;51.456443
LOCATION:Saint Laurence\, Reading
URL:https://www.stlreading.org/visit
END:VEVENT
BEGIN:VEVENT
SUMMARY:Service ZERO
DTSTART;TZID=Europe/London:20260712T140000
DTEND;TZID=Europe/London:20260712T151000
DTSTAMP:20260421T064904Z
UID:151351783861200.0achurchnearyou
CATEGORIES:
DESCRIPTION:Space for worship + teaching + ministry with kids work. We mee
 t for Service ZERO every second\, third\, forth and fifth Sunday of the mo
 nth.
GEO:-0.969368;51.456443
LOCATION:Saint Laurence\, Reading
URL:https://www.stlreading.org/visit
END:VEVENT
BEGIN:VEVENT
SUMMARY:Service ZERO
DTSTART;TZID=Europe/London:20260719T140000
DTEND;TZID=Europe/London:20260719T151000
DTSTAMP:20260421T064904Z
UID:151351784466000.0achurchnearyou
CATEGORIES:
DESCRIPTION:Space for worship + teaching + ministry with kids work. We mee
 t for Service ZERO every second\, third\, forth and fifth Sunday of the mo
 nth.
GEO:-0.969368;51.456443
LOCATION:Saint Laurence\, Reading
URL:https://www.stlreading.org/visit
END:VEVENT
BEGIN:VEVENT
SUMMARY:Service ZERO
DTSTART;TZID=Europe/London:20260726T140000
DTEND;TZID=Europe/London:20260726T151000
DTSTAMP:20260421T064904Z
UID:151351785070800.0achurchnearyou
CATEGORIES:
DESCRIPTION:Space for worship + teaching + ministry with kids work. We mee
 t for Service ZERO every second\, third\, forth and fifth Sunday of the mo
 nth.
GEO:-0.969368;51.456443
LOCATION:Saint Laurence\, Reading
URL:https://www.stlreading.org/visit
END:VEVENT
BEGIN:VEVENT
SUMMARY:Service ZERO
DTSTART;TZID=Europe/London:20260809T140000
DTEND;TZID=Europe/London:20260809T151000
DTSTAMP:20260421T064904Z
UID:151351786280400.0achurchnearyou
CATEGORIES:
DESCRIPTION:Space for worship + teaching + ministry with kids work. We mee
 t for Service ZERO every second\, third\, forth and fifth Sunday of the mo
 nth.
GEO:-0.969368;51.456443
LOCATION:Saint Laurence\, Reading
URL:https://www.stlreading.org/visit
END:VEVENT
BEGIN:VEVENT
SUMMARY:Service ZERO
DTSTART;TZID=Europe/London:20260816T140000
DTEND;TZID=Europe/London:20260816T151000
DTSTAMP:20260421T064904Z
UID:151351786885200.0achurchnearyou
CATEGORIES:
DESCRIPTION:Space for worship + teaching + ministry with kids work. We mee
 t for Service ZERO every second\, third\, forth and fifth Sunday of the mo
 nth.
GEO:-0.969368;51.456443
LOCATION:Saint Laurence\, Reading
URL:https://www.stlreading.org/visit
END:VEVENT
BEGIN:VEVENT
SUMMARY:Service ZERO
DTSTART;TZID=Europe/London:20260823T140000
DTEND;TZID=Europe/London:20260823T151000
DTSTAMP:20260421T064904Z
UID:151351787490000.0achurchnearyou
CATEGORIES:
DESCRIPTION:Space for worship + teaching + ministry with kids work. We mee
 t for Service ZERO every second\, third\, forth and fifth Sunday of the mo
 nth.
GEO:-0.969368;51.456443
LOCATION:Saint Laurence\, Reading
URL:https://www.stlreading.org/visit
END:VEVENT
BEGIN:VEVENT
SUMMARY:Service ZERO
DTSTART;TZID=Europe/London:20260830T140000
DTEND;TZID=Europe/London:20260830T151000
DTSTAMP:20260421T064904Z
UID:151351788094800.0achurchnearyou
CATEGORIES:
DESCRIPTION:Space for worship + teaching + ministry with kids work. We mee
 t for Service ZERO every second\, third\, forth and fifth Sunday of the mo
 nth.
GEO:-0.969368;51.456443
LOCATION:Saint Laurence\, Reading
URL:https://www.stlreading.org/visit
END:VEVENT
BEGIN:VEVENT
SUMMARY:Service ZERO
DTSTART;TZID=Europe/London:20260913T140000
DTEND;TZID=Europe/London:20260913T151000
DTSTAMP:20260421T064904Z
UID:151351789304400.0achurchnearyou
CATEGORIES:
DESCRIPTION:Space for worship + teaching + ministry with kids work. We mee
 t for Service ZERO every second\, third\, forth and fifth Sunday of the mo
 nth.
GEO:-0.969368;51.456443
LOCATION:Saint Laurence\, Reading
URL:https://www.stlreading.org/visit
END:VEVENT
BEGIN:VEVENT
SUMMARY:Service ZERO
DTSTART;TZID=Europe/London:20260920T140000
DTEND;TZID=Europe/London:20260920T151000
DTSTAMP:20260421T064904Z
UID:151351789909200.0achurchnearyou
CATEGORIES:
DESCRIPTION:Space for worship + teaching + ministry with kids work. We mee
 t for Service ZERO every second\, third\, forth and fifth Sunday of the mo
 nth.
GEO:-0.969368;51.456443
LOCATION:Saint Laurence\, Reading
URL:https://www.stlreading.org/visit
END:VEVENT
BEGIN:VEVENT
SUMMARY:Service ZERO
DTSTART;TZID=Europe/London:20260927T140000
DTEND;TZID=Europe/London:20260927T151000
DTSTAMP:20260421T064904Z
UID:151351790514000.0achurchnearyou
CATEGORIES:
DESCRIPTION:Space for worship + teaching + ministry with kids work. We mee
 t for Service ZERO every second\, third\, forth and fifth Sunday of the mo
 nth.
GEO:-0.969368;51.456443
LOCATION:Saint Laurence\, Reading
URL:https://www.stlreading.org/visit
END:VEVENT
END:VCALENDAR
