BEGIN:VCALENDAR
VERSION:2.0
PRODID:-//achurchnearyou.com//eventfeed//EN
CALSCALE:GREGORIAN
METHOD:PUBLISH
X-WR-TIMEZONE:UTC
BEGIN:VEVENT
SUMMARY:Pub Carols
DTSTART:20251214T160000Z
DTEND:20251214T170000Z
DTSTAMP:20260423T223647Z
UID:12707612025-12-14 16:00:00+00:00achurchnearyou
CATEGORIES:
DESCRIPTION:An hour of Carols at the Crown and Crooked Billet.
GEO:0.058142;51.606988
LOCATION:St Paul's Woodford Bridge
URL:https://www.achurchnearyou.com/church/5545/service-and-events/events/1
 270761/
END:VEVENT
END:VCALENDAR
