BEGIN:VCALENDAR
VERSION:2.0
PRODID:-//achurchnearyou.com//eventfeed//EN
CALSCALE:GREGORIAN
METHOD:PUBLISH
X-WR-TIMEZONE:UTC
BEGIN:VEVENT
SUMMARY:Evening Prayer (Online)
DTSTART;TZID=Europe/London:20240714T153000
DTEND;TZID=Europe/London:20240714T163000
DTSTAMP:20260425T042319Z
UID:10831482024-07-14 15:30:00+01:00achurchnearyou
CATEGORIES:
DESCRIPTION:All are welcome to join us online for evening prayer\, which c
 omprises the prayerful reading of the scriptures and intercessory prayer.\
 n\nThis is led by the clergy from the cathedral or by others from their ho
 mes. Participants may either listen or take a speaking role.\n\nFor more i
 nformation please visit https://bradfordcathedral.org.uk/worship-music/pra
 yer-study/
LOCATION:Bradford Cathedral
URL:https://bradfordcathedral.org.uk/worship-music/prayer-study/
END:VEVENT
BEGIN:VEVENT
SUMMARY:Evening Prayer (Online)
DTSTART;TZID=Europe/London:20240721T153000
DTEND;TZID=Europe/London:20240721T163000
DTSTAMP:20260425T042319Z
UID:10831482024-07-21 15:30:00+01:00achurchnearyou
CATEGORIES:
DESCRIPTION:All are welcome to join us online for evening prayer\, which c
 omprises the prayerful reading of the scriptures and intercessory prayer.\
 n\nThis is led by the clergy from the cathedral or by others from their ho
 mes. Participants may either listen or take a speaking role.\n\nFor more i
 nformation please visit https://bradfordcathedral.org.uk/worship-music/pra
 yer-study/
LOCATION:Bradford Cathedral
URL:https://bradfordcathedral.org.uk/worship-music/prayer-study/
END:VEVENT
BEGIN:VEVENT
SUMMARY:Evening Prayer (Online)
DTSTART;TZID=Europe/London:20240728T153000
DTEND;TZID=Europe/London:20240728T163000
DTSTAMP:20260425T042319Z
UID:10831482024-07-28 15:30:00+01:00achurchnearyou
CATEGORIES:
DESCRIPTION:All are welcome to join us online for evening prayer\, which c
 omprises the prayerful reading of the scriptures and intercessory prayer.\
 n\nThis is led by the clergy from the cathedral or by others from their ho
 mes. Participants may either listen or take a speaking role.\n\nFor more i
 nformation please visit https://bradfordcathedral.org.uk/worship-music/pra
 yer-study/
LOCATION:Bradford Cathedral
URL:https://bradfordcathedral.org.uk/worship-music/prayer-study/
END:VEVENT
BEGIN:VEVENT
SUMMARY:Evening Prayer (Online)
DTSTART;TZID=Europe/London:20240804T153000
DTEND;TZID=Europe/London:20240804T163000
DTSTAMP:20260425T042319Z
UID:10831482024-08-04 15:30:00+01:00achurchnearyou
CATEGORIES:
DESCRIPTION:All are welcome to join us online for evening prayer\, which c
 omprises the prayerful reading of the scriptures and intercessory prayer.\
 n\nThis is led by the clergy from the cathedral or by others from their ho
 mes. Participants may either listen or take a speaking role.\n\nFor more i
 nformation please visit https://bradfordcathedral.org.uk/worship-music/pra
 yer-study/
LOCATION:Bradford Cathedral
URL:https://bradfordcathedral.org.uk/worship-music/prayer-study/
END:VEVENT
BEGIN:VEVENT
SUMMARY:Evening Prayer (Online)
DTSTART;TZID=Europe/London:20240811T153000
DTEND;TZID=Europe/London:20240811T163000
DTSTAMP:20260425T042319Z
UID:10831482024-08-11 15:30:00+01:00achurchnearyou
CATEGORIES:
DESCRIPTION:All are welcome to join us online for evening prayer\, which c
 omprises the prayerful reading of the scriptures and intercessory prayer.\
 n\nThis is led by the clergy from the cathedral or by others from their ho
 mes. Participants may either listen or take a speaking role.\n\nFor more i
 nformation please visit https://bradfordcathedral.org.uk/worship-music/pra
 yer-study/
LOCATION:Bradford Cathedral
URL:https://bradfordcathedral.org.uk/worship-music/prayer-study/
END:VEVENT
BEGIN:VEVENT
SUMMARY:Evening Prayer (Online)
DTSTART;TZID=Europe/London:20240818T153000
DTEND;TZID=Europe/London:20240818T163000
DTSTAMP:20260425T042319Z
UID:10831482024-08-18 15:30:00+01:00achurchnearyou
CATEGORIES:
DESCRIPTION:All are welcome to join us online for evening prayer\, which c
 omprises the prayerful reading of the scriptures and intercessory prayer.\
 n\nThis is led by the clergy from the cathedral or by others from their ho
 mes. Participants may either listen or take a speaking role.\n\nFor more i
 nformation please visit https://bradfordcathedral.org.uk/worship-music/pra
 yer-study/
LOCATION:Bradford Cathedral
URL:https://bradfordcathedral.org.uk/worship-music/prayer-study/
END:VEVENT
BEGIN:VEVENT
SUMMARY:Evening Prayer (Online)
DTSTART;TZID=Europe/London:20240825T153000
DTEND;TZID=Europe/London:20240825T163000
DTSTAMP:20260425T042319Z
UID:10831482024-08-25 15:30:00+01:00achurchnearyou
CATEGORIES:
DESCRIPTION:All are welcome to join us online for evening prayer\, which c
 omprises the prayerful reading of the scriptures and intercessory prayer.\
 n\nThis is led by the clergy from the cathedral or by others from their ho
 mes. Participants may either listen or take a speaking role.\n\nFor more i
 nformation please visit https://bradfordcathedral.org.uk/worship-music/pra
 yer-study/
LOCATION:Bradford Cathedral
URL:https://bradfordcathedral.org.uk/worship-music/prayer-study/
END:VEVENT
BEGIN:VEVENT
SUMMARY:Evening Prayer (Online)
DTSTART;TZID=Europe/London:20240901T153000
DTEND;TZID=Europe/London:20240901T163000
DTSTAMP:20260425T042319Z
UID:10831482024-09-01 15:30:00+01:00achurchnearyou
CATEGORIES:
DESCRIPTION:All are welcome to join us online for evening prayer\, which c
 omprises the prayerful reading of the scriptures and intercessory prayer.\
 n\nThis is led by the clergy from the cathedral or by others from their ho
 mes. Participants may either listen or take a speaking role.\n\nFor more i
 nformation please visit https://bradfordcathedral.org.uk/worship-music/pra
 yer-study/
LOCATION:Bradford Cathedral
URL:https://bradfordcathedral.org.uk/worship-music/prayer-study/
END:VEVENT
END:VCALENDAR
